{"text_format":"1","workbook":"xlsx","n_sheets":8,"sheets":["Superfície de Vol USD Original","Superfície de Vol Dias Úteis","Smiles","ETTVol","Tabela de Feriados","Gatheral","Cupom B3","Pré B3"],"not_rendered":{"charts":6,"images":2,"macros":1,"external_links":0,"defined_names":42,"comments":0,"pivot_tables":0},"unopened":[],"bounds":{"document_bytes":16777216,"sheet_cells":100000,"rows_first":2000,"rows_last":500,"rows_between":2000,"halvings":0,"cell_chars":16384,"cell_head_chars":4096},"cells_cut":0,"cells_raw":0,"read":"whole","date_system":"1900"}

{"sheet":"Superfície de Vol USD Original","index":0,"n_rows":18,"n_cols":12,"rows_kept":18,"cut":false,"hidden":false,"merged":[]}
["2022-04-01",1,5,10,25,37,50,63,75,90,95,99]
["2022-04-01",21.55,21.432772171521901,21.241204558469061,20.138804683918394,19.666420293898874,19.196020300489888,19.198799957594808,19.027335074044231,19.456199453573987,19.522139599975748,19.560724231044578]
["2022-05-02",21.696552985298521,21.138223308912334,20.492180195218747,18.874034485428687,18.280803180485567,17.741852116665417,17.36948863077798,17.387905077926106,17.689088531889443,17.95242038171537,18.257517968380824]
["2022-06-01",22.904964833118044,22.282310513893272,21.577959069940025,19.905820907124667,18.791683036507933,18.270533313506601,17.950827579298334,17.803429450061035,18.146738565925183,18.399776135376584,18.677237378666348]
["2022-07-01",23.484727840771608,22.781931406292646,21.993213496929258,20.155907131767428,18.899147284808283,18.28885491673617,17.88878379741584,17.656790037776688,17.87769172229838,18.134999152616132,18.457785183859528]
["2022-08-01",24.072391539901989,23.279694226394874,22.402488483066463,20.426656949961199,19.062129352616338,18.394314641382746,17.965642109651288,17.704620931446065,17.933850473593591,18.228697434765422,18.607475653584743]
["2022-09-01",24.464953421490339,23.66346014453449,22.737058720712323,20.422631770829373,19.38276760125623,18.521788361084262,17.993064885792165,17.895099767889235,18.151884755049959,18.449591415752053,18.822621016068581]
["2022-10-03",24.763564960484747,23.938992878906149,22.992183006709908,20.66333730305319,19.71833466083665,18.914856557256758,18.465544701927392,18.17549719113493,18.347334440737352,18.634571384178571,19.02418069230373]
["2022-11-01",25.061483856935535,24.222917113512526,23.312334394196316,21.352986526675068,19.935471498142689,19.229658489841476,18.766477636670629,18.455551041576605,18.5773251752011,18.835717638653136,19.200470544732354]
["2022-12-01",25.040412584524518,24.31422438938738,23.420535488427362,20.834964480033669,19.75996027503837,19.051923142362924,18.59297914319729,18.294137292669681,18.457022773934778,18.752855705855325,19.160124769783806]
["2023-01-02",25.60606205210247,24.800603864029775,23.854897494246092,21.403395786767458,20.290950507625833,19.556348822425466,19.067437230873178,18.74083203199794,18.876890919818308,19.128790930865023,19.476718471723473]
["2023-03-01",25.739624475876916,24.877147307291864,23.91297995937969,21.687725553433957,20.137878908632882,19.355852303180214,18.884893504359781,18.537829747607688,18.739420587011743,19.023087955148299,19.394855792076896]
["2023-04-03",25.621875421959427,24.727661749446771,23.698893395393316,21.156832221840133,20.004060344373176,19.237108974614721,18.738027284656489,18.405164228380215,18.609459043174645,18.896642430360373,19.272937163556833]
["2023-07-03",25.797986892523301,24.917136027805302,23.878629999800911,21.160365600489875,19.951351458925309,19.140687184215558,18.664831958933853,18.314807501095174,18.57673517026759,18.888424450415982,19.281502439785243]
["2023-10-02",25.878637196609226,25.078660255220704,24.094351403867535,21.247873848404328,20.027732267406719,19.219294610077554,18.717727914375612,18.355479703345168,18.561524589873532,18.857556064658638,19.247247273137873]
["2024-01-02",26.165045573965152,25.354548124542934,24.356899192638835,21.469181548166148,20.221444379126066,19.393125223504004,18.874808531031242,18.495554542511684,18.679151235076265,18.967255157327997,19.353365980053468]
["2024-04-01",25.944941413405097,25.064705683921257,24.021162125589289,21.254044300512327,20.013217795488384,19.19636219272363,18.694408086445456,18.33525796267935,18.560575950454826,18.863961647884651,19.257766399305694]
["2024-07-01",26.727100322750559,25.833021363319215,24.791672909971759,22.142785825603656,20.542818901346074,19.330266435721335,18.65928880717707,18.52061256758634,18.996195697144046,19.304490101676237,19.627640737036614]

{"sheet":"Superfície de Vol Dias Úteis","index":1,"n_rows":18,"n_cols":13,"rows_kept":18,"cut":false,"hidden":false,"merged":[]}
["2022-04-01","Prazo",{"$f":"'Superfície de Vol USD Original'!B1/100","v":0.01},{"$f":"'Superfície de Vol USD Original'!C1/100","v":0.05},{"$f":"'Superfície de Vol USD Original'!D1/100","v":0.1},{"$f":"'Superfície de Vol USD Original'!E1/100","v":0.25},{"$f":"'Superfície de Vol USD Original'!F1/100","v":0.37},{"$f":"'Superfície de Vol USD Original'!G1/100","v":0.5},{"$f":"'Superfície de Vol USD Original'!H1/100","v":0.63},{"$f":"'Superfície de Vol USD Original'!I1/100","v":0.75},{"$f":"'Superfície de Vol USD Original'!J1/100","v":0.9},{"$f":"'Superfície de Vol USD Original'!K1/100","v":0.95},{"$f":"'Superfície de Vol USD Original'!L1/100","v":0.99}]
["2022-04-01",{"$f":"NETWORKDAYS($A$1,A2,'Tabela de Feriados'!$A$2:$A$937)-1","v":0},{"$f":"'Superfície de Vol USD Original'!B2/100","v":0.2155},{"$f":"'Superfície de Vol USD Original'!C2/100","v":0.21432772171521899},{"$f":"'Superfície de Vol USD Original'!D2/100","v":0.21241204558469062},{"$f":"'Superfície de Vol USD Original'!E2/100","v":0.20138804683918393},{"$f":"'Superfície de Vol USD Original'!F2/100","v":0.19666420293898873},{"$f":"'Superfície de Vol USD Original'!G2/100","v":0.19196020300489888},{"$f":"'Superfície de Vol USD Original'!H2/100","v":0.19198799957594809},{"$f":"'Superfície de Vol USD Original'!I2/100","v":0.1902733507404423},{"$f":"'Superfície de Vol USD Original'!J2/100","v":0.19456199453573986},{"$f":"'Superfície de Vol USD Original'!K2/100","v":0.19522139599975749},{"$f":"'Superfície de Vol USD Original'!L2/100","v":0.19560724231044577}]
["2022-05-02",{"$f":"NETWORKDAYS($A$1,A3,'Tabela de Feriados'!$A$2:$A$937)-1","v":19},{"$f":"'Superfície de Vol USD Original'!B3/100","v":0.2169655298529852},{"$f":"'Superfície de Vol USD Original'!C3/100","v":0.21138223308912335},{"$f":"'Superfície de Vol USD Original'!D3/100","v":0.20492180195218748},{"$f":"'Superfície de Vol USD Original'!E3/100","v":0.18874034485428687},{"$f":"'Superfície de Vol USD Original'!F3/100","v":0.18280803180485566},{"$f":"'Superfície de Vol USD Original'!G3/100","v":0.17741852116665416},{"$f":"'Superfície de Vol USD Original'!H3/100","v":0.17369488630777979},{"$f":"'Superfície de Vol USD Original'!I3/100","v":0.17387905077926105},{"$f":"'Superfície de Vol USD Original'!J3/100","v":0.17689088531889444},{"$f":"'Superfície de Vol USD Original'!K3/100","v":0.1795242038171537},{"$f":"'Superfície de Vol USD Original'!L3/100","v":0.18257517968380824}]
["2022-06-01",{"$f":"NETWORKDAYS($A$1,A4,'Tabela de Feriados'!$A$2:$A$937)-1","v":41},{"$f":"'Superfície de Vol USD Original'!B4/100","v":0.22904964833118044},{"$f":"'Superfície de Vol USD Original'!C4/100","v":0.22282310513893272},{"$f":"'Superfície de Vol USD Original'!D4/100","v":0.21577959069940025},{"$f":"'Superfície de Vol USD Original'!E4/100","v":0.19905820907124666},{"$f":"'Superfície de Vol USD Original'!F4/100","v":0.18791683036507933},{"$f":"'Superfície de Vol USD Original'!G4/100","v":0.18270533313506601},{"$f":"'Superfície de Vol USD Original'!H4/100","v":0.17950827579298334},{"$f":"'Superfície de Vol USD Original'!I4/100","v":0.17803429450061034},{"$f":"'Superfície de Vol USD Original'!J4/100","v":0.18146738565925183},{"$f":"'Superfície de Vol USD Original'!K4/100","v":0.18399776135376583},{"$f":"'Superfície de Vol USD Original'!L4/100","v":0.18677237378666348}]
["2022-07-01",{"$f":"NETWORKDAYS($A$1,A5,'Tabela de Feriados'!$A$2:$A$937)-1","v":62},{"$f":"'Superfície de Vol USD Original'!B5/100","v":0.23484727840771608},{"$f":"'Superfície de Vol USD Original'!C5/100","v":0.22781931406292646},{"$f":"'Superfície de Vol USD Original'!D5/100","v":0.21993213496929256},{"$f":"'Superfície de Vol USD Original'!E5/100","v":0.20155907131767428},{"$f":"'Superfície de Vol USD Original'!F5/100","v":0.18899147284808282},{"$f":"'Superfície de Vol USD Original'!G5/100","v":0.18288854916736169},{"$f":"'Superfície de Vol USD Original'!H5/100","v":0.17888783797415841},{"$f":"'Superfície de Vol USD Original'!I5/100","v":0.17656790037776687},{"$f":"'Superfície de Vol USD Original'!J5/100","v":0.17877691722298381},{"$f":"'Superfície de Vol USD Original'!K5/100","v":0.18134999152616132},{"$f":"'Superfície de Vol USD Original'!L5/100","v":0.18457785183859529}]
["2022-08-01",{"$f":"NETWORKDAYS($A$1,A6,'Tabela de Feriados'!$A$2:$A$937)-1","v":83},{"$f":"'Superfície de Vol USD Original'!B6/100","v":0.24072391539901988},{"$f":"'Superfície de Vol USD Original'!C6/100","v":0.23279694226394873},{"$f":"'Superfície de Vol USD Original'!D6/100","v":0.22402488483066463},{"$f":"'Superfície de Vol USD Original'!E6/100","v":0.204266569499612},{"$f":"'Superfície de Vol USD Original'!F6/100","v":0.19062129352616339},{"$f":"'Superfície de Vol USD Original'!G6/100","v":0.18394314641382745},{"$f":"'Superfície de Vol USD Original'!H6/100","v":0.17965642109651289},{"$f":"'Superfície de Vol USD Original'!I6/100","v":0.17704620931446066},{"$f":"'Superfície de Vol USD Original'!J6/100","v":0.17933850473593591},{"$f":"'Superfície de Vol USD Original'!K6/100","v":0.18228697434765423},{"$f":"'Superfície de Vol USD Original'!L6/100","v":0.18607475653584743}]
["2022-09-01",{"$f":"NETWORKDAYS($A$1,A7,'Tabela de Feriados'!$A$2:$A$937)-1","v":106},{"$f":"'Superfície de Vol USD Original'!B7/100","v":0.2446495342149034},{"$f":"'Superfície de Vol USD Original'!C7/100","v":0.2366346014453449},{"$f":"'Superfície de Vol USD Original'!D7/100","v":0.22737058720712322},{"$f":"'Superfície de Vol USD Original'!E7/100","v":0.20422631770829372},{"$f":"'Superfície de Vol USD Original'!F7/100","v":0.19382767601256229},{"$f":"'Superfície de Vol USD Original'!G7/100","v":0.18521788361084263},{"$f":"'Superfície de Vol USD Original'!H7/100","v":0.17993064885792165},{"$f":"'Superfície de Vol USD Original'!I7/100","v":0.17895099767889236},{"$f":"'Superfície de Vol USD Original'!J7/100","v":0.1815188475504996},{"$f":"'Superfície de Vol USD Original'!K7/100","v":0.18449591415752054},{"$f":"'Superfície de Vol USD Original'!L7/100","v":0.1882262101606858}]
["2022-10-03",{"$f":"NETWORKDAYS($A$1,A8,'Tabela de Feriados'!$A$2:$A$937)-1","v":127},{"$f":"'Superfície de Vol USD Original'!B8/100","v":0.24763564960484746},{"$f":"'Superfície de Vol USD Original'!C8/100","v":0.23938992878906148},{"$f":"'Superfície de Vol USD Original'!D8/100","v":0.22992183006709907},{"$f":"'Superfície de Vol USD Original'!E8/100","v":0.20663337303053189},{"$f":"'Superfície de Vol USD Original'!F8/100","v":0.19718334660836651},{"$f":"'Superfície de Vol USD Original'!G8/100","v":0.1891485655725676},{"$f":"'Superfície de Vol USD Original'!H8/100","v":0.18465544701927392},{"$f":"'Superfície de Vol USD Original'!I8/100","v":0.18175497191134929},{"$f":"'Superfície de Vol USD Original'!J8/100","v":0.18347334440737353},{"$f":"'Superfície de Vol USD Original'!K8/100","v":0.18634571384178572},{"$f":"'Superfície de Vol USD Original'!L8/100","v":0.1902418069230373}]
["2022-11-01",{"$f":"NETWORKDAYS($A$1,A9,'Tabela de Feriados'!$A$2:$A$937)-1","v":147},{"$f":"'Superfície de Vol USD Original'!B9/100","v":0.25061483856935535},{"$f":"'Superfície de Vol USD Original'!C9/100","v":0.24222917113512527},{"$f":"'Superfície de Vol USD Original'!D9/100","v":0.23312334394196316},{"$f":"'Superfície de Vol USD Original'!E9/100","v":0.21352986526675066},{"$f":"'Superfície de Vol USD Original'!F9/100","v":0.1993547149814269},{"$f":"'Superfície de Vol USD Original'!G9/100","v":0.19229658489841475},{"$f":"'Superfície de Vol USD Original'!H9/100","v":0.18766477636670628},{"$f":"'Superfície de Vol USD Original'!I9/100","v":0.18455551041576604},{"$f":"'Superfície de Vol USD Original'!J9/100","v":0.18577325175201101},{"$f":"'Superfície de Vol USD Original'!K9/100","v":0.18835717638653138},{"$f":"'Superfície de Vol USD Original'!L9/100","v":0.19200470544732354}]
["2022-12-01",{"$f":"NETWORKDAYS($A$1,A10,'Tabela de Feriados'!$A$2:$A$937)-1","v":167},{"$f":"'Superfície de Vol USD Original'!B10/100","v":0.25040412584524518},{"$f":"'Superfície de Vol USD Original'!C10/100","v":0.24314224389387382},{"$f":"'Superfície de Vol USD Original'!D10/100","v":0.23420535488427363},{"$f":"'Superfície de Vol USD Original'!E10/100","v":0.20834964480033669},{"$f":"'Superfície de Vol USD Original'!F10/100","v":0.19759960275038371},{"$f":"'Superfície de Vol USD Original'!G10/100","v":0.19051923142362923},{"$f":"'Superfície de Vol USD Original'!H10/100","v":0.18592979143197291},{"$f":"'Superfície de Vol USD Original'!I10/100","v":0.18294137292669682},{"$f":"'Superfície de Vol USD Original'!J10/100","v":0.18457022773934778},{"$f":"'Superfície de Vol USD Original'!K10/100","v":0.18752855705855326},{"$f":"'Superfície de Vol USD Original'!L10/100","v":0.19160124769783807}]
["2023-01-02",{"$f":"NETWORKDAYS($A$1,A11,'Tabela de Feriados'!$A$2:$A$937)-1","v":189},{"$f":"'Superfície de Vol USD Original'!B11/100","v":0.25606062052102468},{"$f":"'Superfície de Vol USD Original'!C11/100","v":0.24800603864029774},{"$f":"'Superfície de Vol USD Original'!D11/100","v":0.23854897494246091},{"$f":"'Superfície de Vol USD Original'!E11/100","v":0.21403395786767457},{"$f":"'Superfície de Vol USD Original'!F11/100","v":0.20290950507625832},{"$f":"'Superfície de Vol USD Original'!G11/100","v":0.19556348822425465},{"$f":"'Superfície de Vol USD Original'!H11/100","v":0.19067437230873177},{"$f":"'Superfície de Vol USD Original'!I11/100","v":0.18740832031997939},{"$f":"'Superfície de Vol USD Original'!J11/100","v":0.18876890919818309},{"$f":"'Superfície de Vol USD Original'!K11/100","v":0.19128790930865022},{"$f":"'Superfície de Vol USD Original'!L11/100","v":0.19476718471723473}]
["2023-03-01",{"$f":"NETWORKDAYS($A$1,A12,'Tabela de Feriados'!$A$2:$A$937)-1","v":229},{"$f":"'Superfície de Vol USD Original'!B12/100","v":0.25739624475876915},{"$f":"'Superfície de Vol USD Original'!C12/100","v":0.24877147307291864},{"$f":"'Superfície de Vol USD Original'!D12/100","v":0.2391297995937969},{"$f":"'Superfície de Vol USD Original'!E12/100","v":0.21687725553433956},{"$f":"'Superfície de Vol USD Original'!F12/100","v":0.20137878908632881},{"$f":"'Superfície de Vol USD Original'!G12/100","v":0.19355852303180213},{"$f":"'Superfície de Vol USD Original'!H12/100","v":0.18884893504359782},{"$f":"'Superfície de Vol USD Original'!I12/100","v":0.18537829747607687},{"$f":"'Superfície de Vol USD Original'!J12/100","v":0.18739420587011743},{"$f":"'Superfície de Vol USD Original'!K12/100","v":0.19023087955148299},{"$f":"'Superfície de Vol USD Original'!L12/100","v":0.19394855792076895}]
["2023-04-03",{"$f":"NETWORKDAYS($A$1,A13,'Tabela de Feriados'!$A$2:$A$937)-1","v":252},{"$f":"'Superfície de Vol USD Original'!B13/100","v":0.25621875421959428},{"$f":"'Superfície de Vol USD Original'!C13/100","v":0.24727661749446772},{"$f":"'Superfície de Vol USD Original'!D13/100","v":0.23698893395393317},{"$f":"'Superfície de Vol USD Original'!E13/100","v":0.21156832221840133},{"$f":"'Superfície de Vol USD Original'!F13/100","v":0.20004060344373176},{"$f":"'Superfície de Vol USD Original'!G13/100","v":0.19237108974614719},{"$f":"'Superfície de Vol USD Original'!H13/100","v":0.18738027284656489},{"$f":"'Superfície de Vol USD Original'!I13/100","v":0.18405164228380216},{"$f":"'Superfície de Vol USD Original'!J13/100","v":0.18609459043174645},{"$f":"'Superfície de Vol USD Original'!K13/100","v":0.18896642430360372},{"$f":"'Superfície de Vol USD Original'!L13/100","v":0.19272937163556833}]
["2023-07-03",{"$f":"NETWORKDAYS($A$1,A14,'Tabela de Feriados'!$A$2:$A$937)-1","v":313},{"$f":"'Superfície de Vol USD Original'!B14/100","v":0.257979868925233},{"$f":"'Superfície de Vol USD Original'!C14/100","v":0.24917136027805303},{"$f":"'Superfície de Vol USD Original'!D14/100","v":0.2387862999980091},{"$f":"'Superfície de Vol USD Original'!E14/100","v":0.21160365600489875},{"$f":"'Superfície de Vol USD Original'!F14/100","v":0.19951351458925309},{"$f":"'Superfície de Vol USD Original'!G14/100","v":0.19140687184215557},{"$f":"'Superfície de Vol USD Original'!H14/100","v":0.18664831958933853},{"$f":"'Superfície de Vol USD Original'!I14/100","v":0.18314807501095173},{"$f":"'Superfície de Vol USD Original'!J14/100","v":0.18576735170267589},{"$f":"'Superfície de Vol USD Original'!K14/100","v":0.18888424450415983},{"$f":"'Superfície de Vol USD Original'!L14/100","v":0.19281502439785242}]
["2023-10-02",{"$f":"NETWORKDAYS($A$1,A15,'Tabela de Feriados'!$A$2:$A$937)-1","v":377},{"$f":"'Superfície de Vol USD Original'!B15/100","v":0.25878637196609228},{"$f":"'Superfície de Vol USD Original'!C15/100","v":0.25078660255220703},{"$f":"'Superfície de Vol USD Original'!D15/100","v":0.24094351403867534},{"$f":"'Superfície de Vol USD Original'!E15/100","v":0.21247873848404328},{"$f":"'Superfície de Vol USD Original'!F15/100","v":0.2002773226740672},{"$f":"'Superfície de Vol USD Original'!G15/100","v":0.19219294610077553},{"$f":"'Superfície de Vol USD Original'!H15/100","v":0.18717727914375612},{"$f":"'Superfície de Vol USD Original'!I15/100","v":0.18355479703345168},{"$f":"'Superfície de Vol USD Original'!J15/100","v":0.18561524589873532},{"$f":"'Superfície de Vol USD Original'!K15/100","v":0.18857556064658637},{"$f":"'Superfície de Vol USD Original'!L15/100","v":0.19247247273137874}]
["2024-01-02",{"$f":"NETWORKDAYS($A$1,A16,'Tabela de Feriados'!$A$2:$A$937)-1","v":438},{"$f":"'Superfície de Vol USD Original'!B16/100","v":0.26165045573965151},{"$f":"'Superfície de Vol USD Original'!C16/100","v":0.25354548124542936},{"$f":"'Superfície de Vol USD Original'!D16/100","v":0.24356899192638834},{"$f":"'Superfície de Vol USD Original'!E16/100","v":0.21469181548166147},{"$f":"'Superfície de Vol USD Original'!F16/100","v":0.20221444379126066},{"$f":"'Superfície de Vol USD Original'!G16/100","v":0.19393125223504004},{"$f":"'Superfície de Vol USD Original'!H16/100","v":0.18874808531031242},{"$f":"'Superfície de Vol USD Original'!I16/100","v":0.18495554542511683},{"$f":"'Superfície de Vol USD Original'!J16/100","v":0.18679151235076266},{"$f":"'Superfície de Vol USD Original'!K16/100","v":0.18967255157327997},{"$f":"'Superfície de Vol USD Original'!L16/100","v":0.19353365980053469}]
["2024-04-01",{"$f":"NETWORKDAYS($A$1,A17,'Tabela de Feriados'!$A$2:$A$937)-1","v":499},{"$f":"'Superfície de Vol USD Original'!B17/100","v":0.25944941413405098},{"$f":"'Superfície de Vol USD Original'!C17/100","v":0.25064705683921257},{"$f":"'Superfície de Vol USD Original'!D17/100","v":0.24021162125589288},{"$f":"'Superfície de Vol USD Original'!E17/100","v":0.21254044300512326},{"$f":"'Superfície de Vol USD Original'!F17/100","v":0.20013217795488383},{"$f":"'Superfície de Vol USD Original'!G17/100","v":0.19196362192723629},{"$f":"'Superfície de Vol USD Original'!H17/100","v":0.18694408086445458},{"$f":"'Superfície de Vol USD Original'!I17/100","v":0.18335257962679349},{"$f":"'Superfície de Vol USD Original'!J17/100","v":0.18560575950454827},{"$f":"'Superfície de Vol USD Original'!K17/100","v":0.1886396164788465},{"$f":"'Superfície de Vol USD Original'!L17/100","v":0.19257766399305695}]
["2024-07-01",{"$f":"NETWORKDAYS($A$1,A18,'Tabela de Feriados'!$A$2:$A$937)-1","v":562},{"$f":"'Superfície de Vol USD Original'!B18/100","v":0.26727100322750558},{"$f":"'Superfície de Vol USD Original'!C18/100","v":0.25833021363319214},{"$f":"'Superfície de Vol USD Original'!D18/100","v":0.2479167290997176},{"$f":"'Superfície de Vol USD Original'!E18/100","v":0.22142785825603656},{"$f":"'Superfície de Vol USD Original'!F18/100","v":0.20542818901346074},{"$f":"'Superfície de Vol USD Original'!G18/100","v":0.19330266435721336},{"$f":"'Superfície de Vol USD Original'!H18/100","v":0.18659288807177071},{"$f":"'Superfície de Vol USD Original'!I18/100","v":0.18520612567586339},{"$f":"'Superfície de Vol USD Original'!J18/100","v":0.18996195697144047},{"$f":"'Superfície de Vol USD Original'!K18/100","v":0.19304490101676236},{"$f":"'Superfície de Vol USD Original'!L18/100","v":0.19627640737036614}]

{"sheet":"Smiles","index":2,"n_rows":14,"n_cols":2,"rows_kept":14,"cut":false,"hidden":false,"merged":[]}
["Data","2023-04-03"]
[{"$f":"\"Smile de Vol FX para \" & TEXT(B1,\"mmm/aaaa\")","v":"Smile de Vol FX para abr/2023"}]
["D","s"]
[{"$f":"TRANSPOSE('Superfície de Vol Dias Úteis'!C1:M1)","v":0.01},{"$f":"VLOOKUP($B$1,'Superfície de Vol Dias Úteis'!$A$2:$M$18,3,FALSE)","v":0.25621875421959428}]
[0.05,{"$f":"VLOOKUP($B$1,'Superfície de Vol Dias Úteis'!$A$2:$M$18,4,FALSE)","v":0.24727661749446772}]
[0.1,{"$f":"VLOOKUP($B$1,'Superfície de Vol Dias Úteis'!$A$2:$M$18,5,FALSE)","v":0.23698893395393317}]
[0.25,{"$f":"VLOOKUP($B$1,'Superfície de Vol Dias Úteis'!$A$2:$M$18,6,FALSE)","v":0.21156832221840133}]
[0.37,{"$f":"VLOOKUP($B$1,'Superfície de Vol Dias Úteis'!$A$2:$M$18,7,FALSE)","v":0.20004060344373176}]
[0.5,{"$f":"VLOOKUP($B$1,'Superfície de Vol Dias Úteis'!$A$2:$M$18,8,FALSE)","v":0.19237108974614719}]
[0.63,{"$f":"VLOOKUP($B$1,'Superfície de Vol Dias Úteis'!$A$2:$M$18,9,FALSE)","v":0.18738027284656489}]
[0.75,{"$f":"VLOOKUP($B$1,'Superfície de Vol Dias Úteis'!$A$2:$M$18,10,FALSE)","v":0.18405164228380216}]
[0.9,{"$f":"VLOOKUP($B$1,'Superfície de Vol Dias Úteis'!$A$2:$M$18,11,FALSE)","v":0.18609459043174645}]
[0.95,{"$f":"VLOOKUP($B$1,'Superfície de Vol Dias Úteis'!$A$2:$M$18,12,FALSE)","v":0.18896642430360372}]
[0.99,{"$f":"VLOOKUP($B$1,'Superfície de Vol Dias Úteis'!$A$2:$M$18,13,FALSE)","v":0.19272937163556833}]

{"sheet":"ETTVol","index":3,"n_rows":20,"n_cols":2,"rows_kept":20,"cut":false,"hidden":false,"merged":[]}
["D",0.5]
[{"$f":"\"ETT de Vol FX para Delta=\" &B1","v":"ETT de Vol FX para Delta=0,5"}]
["Vencimento","s"]
[{"$f":"'Superfície de Vol Dias Úteis'!A2","v":"2022-04-01"},{"$f":"VLOOKUP(A4,'Superfície de Vol Dias Úteis'!$A$2:$M$18,MATCH($B$1,'Superfície de Vol Dias Úteis'!$C$1:$M$1)+2,FALSE)","v":0.19196020300489888}]
[{"$f":"'Superfície de Vol Dias Úteis'!A3","v":"2022-05-02"},{"$f":"VLOOKUP(A5,'Superfície de Vol Dias Úteis'!$A$2:$M$18,MATCH($B$1,'Superfície de Vol Dias Úteis'!$C$1:$M$1)+2,FALSE)","v":0.17741852116665416}]
[{"$f":"'Superfície de Vol Dias Úteis'!A4","v":"2022-06-01"},{"$f":"VLOOKUP(A6,'Superfície de Vol Dias Úteis'!$A$2:$M$18,MATCH($B$1,'Superfície de Vol Dias Úteis'!$C$1:$M$1)+2,FALSE)","v":0.18270533313506601}]
[{"$f":"'Superfície de Vol Dias Úteis'!A5","v":"2022-07-01"},{"$f":"VLOOKUP(A7,'Superfície de Vol Dias Úteis'!$A$2:$M$18,MATCH($B$1,'Superfície de Vol Dias Úteis'!$C$1:$M$1)+2,FALSE)","v":0.18288854916736169}]
[{"$f":"'Superfície de Vol Dias Úteis'!A6","v":"2022-08-01"},{"$f":"VLOOKUP(A8,'Superfície de Vol Dias Úteis'!$A$2:$M$18,MATCH($B$1,'Superfície de Vol Dias Úteis'!$C$1:$M$1)+2,FALSE)","v":0.18394314641382745}]
[{"$f":"'Superfície de Vol Dias Úteis'!A7","v":"2022-09-01"},{"$f":"VLOOKUP(A9,'Superfície de Vol Dias Úteis'!$A$2:$M$18,MATCH($B$1,'Superfície de Vol Dias Úteis'!$C$1:$M$1)+2,FALSE)","v":0.18521788361084263}]
[{"$f":"'Superfície de Vol Dias Úteis'!A8","v":"2022-10-03"},{"$f":"VLOOKUP(A10,'Superfície de Vol Dias Úteis'!$A$2:$M$18,MATCH($B$1,'Superfície de Vol Dias Úteis'!$C$1:$M$1)+2,FALSE)","v":0.1891485655725676}]
[{"$f":"'Superfície de Vol Dias Úteis'!A9","v":"2022-11-01"},{"$f":"VLOOKUP(A11,'Superfície de Vol Dias Úteis'!$A$2:$M$18,MATCH($B$1,'Superfície de Vol Dias Úteis'!$C$1:$M$1)+2,FALSE)","v":0.19229658489841475}]
[{"$f":"'Superfície de Vol Dias Úteis'!A10","v":"2022-12-01"},{"$f":"VLOOKUP(A12,'Superfície de Vol Dias Úteis'!$A$2:$M$18,MATCH($B$1,'Superfície de Vol Dias Úteis'!$C$1:$M$1)+2,FALSE)","v":0.19051923142362923}]
[{"$f":"'Superfície de Vol Dias Úteis'!A11","v":"2023-01-02"},{"$f":"VLOOKUP(A13,'Superfície de Vol Dias Úteis'!$A$2:$M$18,MATCH($B$1,'Superfície de Vol Dias Úteis'!$C$1:$M$1)+2,FALSE)","v":0.19556348822425465}]
[{"$f":"'Superfície de Vol Dias Úteis'!A12","v":"2023-03-01"},{"$f":"VLOOKUP(A14,'Superfície de Vol Dias Úteis'!$A$2:$M$18,MATCH($B$1,'Superfície de Vol Dias Úteis'!$C$1:$M$1)+2,FALSE)","v":0.19355852303180213}]
[{"$f":"'Superfície de Vol Dias Úteis'!A13","v":"2023-04-03"},{"$f":"VLOOKUP(A15,'Superfície de Vol Dias Úteis'!$A$2:$M$18,MATCH($B$1,'Superfície de Vol Dias Úteis'!$C$1:$M$1)+2,FALSE)","v":0.19237108974614719}]
[{"$f":"'Superfície de Vol Dias Úteis'!A14","v":"2023-07-03"},{"$f":"VLOOKUP(A16,'Superfície de Vol Dias Úteis'!$A$2:$M$18,MATCH($B$1,'Superfície de Vol Dias Úteis'!$C$1:$M$1)+2,FALSE)","v":0.19140687184215557}]
[{"$f":"'Superfície de Vol Dias Úteis'!A15","v":"2023-10-02"},{"$f":"VLOOKUP(A17,'Superfície de Vol Dias Úteis'!$A$2:$M$18,MATCH($B$1,'Superfície de Vol Dias Úteis'!$C$1:$M$1)+2,FALSE)","v":0.19219294610077553}]
[{"$f":"'Superfície de Vol Dias Úteis'!A16","v":"2024-01-02"},{"$f":"VLOOKUP(A18,'Superfície de Vol Dias Úteis'!$A$2:$M$18,MATCH($B$1,'Superfície de Vol Dias Úteis'!$C$1:$M$1)+2,FALSE)","v":0.19393125223504004}]
[{"$f":"'Superfície de Vol Dias Úteis'!A17","v":"2024-04-01"},{"$f":"VLOOKUP(A19,'Superfície de Vol Dias Úteis'!$A$2:$M$18,MATCH($B$1,'Superfície de Vol Dias Úteis'!$C$1:$M$1)+2,FALSE)","v":0.19196362192723629}]
[{"$f":"'Superfície de Vol Dias Úteis'!A18","v":"2024-07-01"},{"$f":"VLOOKUP(A20,'Superfície de Vol Dias Úteis'!$A$2:$M$18,MATCH($B$1,'Superfície de Vol Dias Úteis'!$C$1:$M$1)+2,FALSE)","v":0.19330266435721336}]

{"sheet":"Tabela de Feriados","index":4,"n_rows":946,"n_cols":3,"rows_kept":946,"cut":false,"hidden":false,"merged":[]}
["Data","Dia da Semana","Feriado"]
["2001-01-01","segunda-feira","Confraternização Universal"]
["2001-02-26","segunda-feira","Carnaval"]
["2001-02-27","terça-feira","Carnaval"]
["2001-04-13","sexta-feira","Paixão de Cristo"]
["2001-04-21","sábado","Tiradentes"]
["2001-05-01","terça-feira","Dia do Trabalho"]
["2001-06-14","quinta-feira","Corpus Christi"]
["2001-09-07","sexta-feira","Independência do Brasil"]
["2001-10-12","sexta-feira","Nossa Sr.a Aparecida - Padroeira do Brasil"]
["2001-11-02","sexta-feira","Finados"]
["2001-11-15","quinta-feira","Proclamação da República"]
["2001-12-25","terça-feira","Natal"]
["2002-01-01","terça-feira","Confraternização Universal"]
["2002-02-11","segunda-feira","Carnaval"]
["2002-02-12","terça-feira","Carnaval"]
["2002-03-29","sexta-feira","Paixão de Cristo"]
["2002-04-21","domingo","Tiradentes"]
["2002-05-01","quarta-feira","Dia do Trabalho"]
["2002-05-30","quinta-feira","Corpus Christi"]
["2002-09-07","sábado","Independência do Brasil"]
["2002-10-12","sábado","Nossa Sr.a Aparecida - Padroeira do Brasil"]
["2002-11-02","sábado","Finados"]
["2002-11-15","sexta-feira","Proclamação da República"]
["2002-12-25","quarta-feira","Natal"]
["2003-01-01","quarta-feira","Confraternização Universal"]
["2003-03-03","segunda-feira","Carnaval"]
["2003-03-04","terça-feira","Carnaval"]
["2003-04-18","sexta-feira","Paixão de Cristo"]
["2003-04-21","segunda-feira","Tiradentes"]
["2003-05-01","quinta-feira","Dia do Trabalho"]
["2003-06-19","quinta-feira","Corpus Christi"]
["2003-09-07","domingo","Independência do Brasil"]
["2003-10-12","domingo","Nossa Sr.a Aparecida - Padroeira do Brasil"]
["2003-11-02","domingo","Finados"]
["2003-11-15","sábado","Proclamação da República"]
["2003-12-25","quinta-feira","Natal"]
["2004-01-01","quinta-feira","Confraternização Universal"]
["2004-02-23","segunda-feira","Carnaval"]
["2004-02-24","terça-feira","Carnaval"]
["2004-04-09","sexta-feira","Paixão de Cristo"]
["2004-04-21","quarta-feira","Tiradentes"]
["2004-05-01","sábado","Dia do Trabalho"]
["2004-06-10","quinta-feira","Corpus Christi"]
["2004-09-07","terça-feira","Independência do Brasil"]
["2004-10-12","terça-feira","Nossa Sr.a Aparecida - Padroeira do Brasil"]
["2004-11-02","terça-feira","Finados"]
["2004-11-15","segunda-feira","Proclamação da República"]
["2004-12-25","sábado","Natal"]
["2005-01-01","sábado","Confraternização Universal"]
["2005-02-07","segunda-feira","Carnaval"]
["2005-02-08","terça-feira","Carnaval"]
["2005-03-25","sexta-feira","Paixão de Cristo"]
["2005-04-21","quinta-feira","Tiradentes"]
["2005-05-01","domingo","Dia do Trabalho"]
["2005-05-26","quinta-feira","Corpus Christi"]
["2005-09-07","quarta-feira","Independência do Brasil"]
["2005-10-12","quarta-feira","Nossa Sr.a Aparecida - Padroeira do Brasil"]
["2005-11-02","quarta-feira","Finados"]
["2005-11-15","terça-feira","Proclamação da República"]
["2005-12-25","domingo","Natal"]
["2006-01-01","domingo","Confraternização Universal"]
["2006-02-27","segunda-feira","Carnaval"]
["2006-02-28","terça-feira","Carnaval"]
["2006-04-14","sexta-feira","Paixão de Cristo"]
["2006-04-21","sexta-feira","Tiradentes"]
["2006-05-01","segunda-feira","Dia do Trabalho"]
["2006-06-15","quinta-feira","Corpus Christi"]
["2006-09-07","quinta-feira","Independência do Brasil"]
["2006-10-12","quinta-feira","Nossa Sr.a Aparecida - Padroeira do Brasil"]
["2006-11-02","quinta-feira","Finados"]
["2006-11-15","quarta-feira","Proclamação da República"]
["2006-12-25","segunda-feira","Natal"]
["2007-01-01","segunda-feira","Confraternização Universal"]
["2007-02-19","segunda-feira","Carnaval"]
["2007-02-20","terça-feira","Carnaval"]
["2007-04-06","sexta-feira","Paixão de Cristo"]
["2007-04-21","sábado","Tiradentes"]
["2007-05-01","terça-feira","Dia do Trabalho"]
["2007-06-07","quinta-feira","Corpus Christi"]
["2007-09-07","sexta-feira","Independência do Brasil"]
["2007-10-12","sexta-feira","Nossa Sr.a Aparecida - Padroeira do Brasil"]
["2007-11-02","sexta-feira","Finados"]
["2007-11-15","quinta-feira","Proclamação da República"]
["2007-12-25","terça-feira","Natal"]
["2008-01-01","terça-feira","Confraternização Universal"]
["2008-02-04","segunda-feira","Carnaval"]
["2008-02-05","terça-feira","Carnaval"]
["2008-03-21","sexta-feira","Paixão de Cristo"]
["2008-04-21","segunda-feira","Tiradentes"]
["2008-05-01","quinta-feira","Dia do Trabalho"]
["2008-05-22","quinta-feira","Corpus Christi"]
["2008-09-07","domingo","Independência do Brasil"]
["2008-10-12","domingo","Nossa Sr.a Aparecida - Padroeira do Brasil"]
["2008-11-02","domingo","Finados"]
["2008-11-15","sábado","Proclamação da República"]
["2008-12-25","quinta-feira","Natal"]
["2009-01-01","quinta-feira","Confraternização Universal"]
["2009-02-23","segunda-feira","Carnaval"]
["2009-02-24","terça-feira","Carnaval"]
["2009-04-10","sexta-feira","Paixão de Cristo"]
["2009-04-21","terça-feira","Tiradentes"]
["2009-05-01","sexta-feira","Dia do Trabalho"]
["2009-06-11","quinta-feira","Corpus Christi"]
["2009-09-07","segunda-feira","Independência do Brasil"]
["2009-10-12","segunda-feira","Nossa Sr.a Aparecida - Padroeira do Brasil"]
["2009-11-02","segunda-feira","Finados"]
["2009-11-15","domingo","Proclamação da República"]
["2009-12-25","sexta-feira","Natal"]
["2010-01-01","sexta-feira","Confraternização Universal"]
["2010-02-15","segunda-feira","Carnaval"]
["2010-02-16","terça-feira","Carnaval"]
["2010-04-02","sexta-feira","Paixão de Cristo"]
["2010-04-21","quarta-feira","Tiradentes"]
["2010-05-01","sábado","Dia do Trabalho"]
["2010-06-03","quinta-feira","Corpus Christi"]
["2010-09-07","terça-feira","Independência do Brasil"]
["2010-10-12","terça-feira","Nossa Sr.a Aparecida - Padroeira do Brasil"]
["2010-11-02","terça-feira","Finados"]
["2010-11-15","segunda-feira","Proclamação da República"]
["2010-12-25","sábado","Natal"]
["2011-01-01","sábado","Confraternização Universal"]
["2011-03-07","segunda-feira","Carnaval"]
["2011-03-08","terça-feira","Carnaval"]
["2011-04-21","quinta-feira","Paixão de Cristo"]
["2011-04-22","sexta-feira","Tiradentes"]
["2011-05-01","domingo","Dia do Trabalho"]
["2011-06-23","quinta-feira","Corpus Christi"]
["2011-09-07","quarta-feira","Independência do Brasil"]
["2011-10-12","quarta-feira","Nossa Sr.a Aparecida - Padroeira do Brasil"]
["2011-11-02","quarta-feira","Finados"]
["2011-11-15","terça-feira","Proclamação da República"]
["2011-12-25","domingo","Natal"]
["2012-01-01","domingo","Confraternização Universal"]
["2012-02-20","segunda-feira","Carnaval"]
["2012-02-21","terça-feira","Carnaval"]
["2012-04-06","sexta-feira","Paixão de Cristo"]
["2012-04-21","sábado","Tiradentes"]
["2012-05-01","terça-feira","Dia do Trabalho"]
["2012-06-07","quinta-feira","Corpus Christi"]
["2012-09-07","sexta-feira","Independência do Brasil"]
["2012-10-12","sexta-feira","Nossa Sr.a Aparecida - Padroeira do Brasil"]
["2012-11-02","sexta-feira","Finados"]
["2012-11-15","quinta-feira","Proclamação da República"]
["2012-12-25","terça-feira","Natal"]
["2013-01-01","terça-feira","Confraternização Universal"]
["2013-02-11","segunda-feira","Carnaval"]
["2013-02-12","terça-feira","Carnaval"]
["2013-03-29","sexta-feira","Paixão de Cristo"]
["2013-04-21","domingo","Tiradentes"]
["2013-05-01","quarta-feira","Dia do Trabalho"]
["2013-05-30","quinta-feira","Corpus Christi"]
["2013-09-07","sábado","Independência do Brasil"]
["2013-10-12","sábado","Nossa Sr.a Aparecida - Padroeira do Brasil"]
["2013-11-02","sábado","Finados"]
["2013-11-15","sexta-feira","Proclamação da República"]
["2013-12-25","quarta-feira","Natal"]
["2014-01-01","quarta-feira","Confraternização Universal"]
["2014-03-03","segunda-feira","Carnaval"]
["2014-03-04","terça-feira","Carnaval"]
["2014-04-18","sexta-feira","Paixão de Cristo"]
["2014-04-21","segunda-feira","Tiradentes"]
["2014-05-01","quinta-feira","Dia do Trabalho"]
["2014-06-19","quinta-feira","Corpus Christi"]
["2014-09-07","domingo","Independência do Brasil"]
["2014-10-12","domingo","Nossa Sr.a Aparecida - Padroeira do Brasil"]
["2014-11-02","domingo","Finados"]
["2014-11-15","sábado","Proclamação da República"]
["2014-12-25","quinta-feira","Natal"]
["2015-01-01","quinta-feira","Confraternização Universal"]
["2015-02-16","segunda-feira","Carnaval"]
["2015-02-17","terça-feira","Carnaval"]
["2015-04-03","sexta-feira","Paixão de Cristo"]
["2015-04-21","terça-feira","Tiradentes"]
["2015-05-01","sexta-feira","Dia do Trabalho"]
["2015-06-04","quinta-feira","Corpus Christi"]
["2015-09-07","segunda-feira","Independência do Brasil"]
["2015-10-12","segunda-feira","Nossa Sr.a Aparecida - Padroeira do Brasil"]
["2015-11-02","segunda-feira","Finados"]
["2015-11-15","domingo","Proclamação da República"]
["2015-12-25","sexta-feira","Natal"]
["2016-01-01","sexta-feira","Confraternização Universal"]
["2016-02-08","segunda-feira","Carnaval"]
["2016-02-09","terça-feira","Carnaval"]
["2016-03-25","sexta-feira","Paixão de Cristo"]
["2016-04-21","quinta-feira","Tiradentes"]
["2016-05-01","domingo","Dia do Trabalho"]
["2016-05-26","quinta-feira","Corpus Christi"]
["2016-09-07","quarta-feira","Independência do Brasil"]
["2016-10-12","quarta-feira","Nossa Sr.a Aparecida - Padroeira do Brasil"]
["2016-11-02","quarta-feira","Finados"]
["2016-11-15","terça-feira","Proclamação da República"]
["2016-12-25","domingo","Natal"]
["2017-01-01","domingo","Confraternização Universal"]
["2017-02-27","segunda-feira","Carnaval"]
["2017-02-28","terça-feira","Carnaval"]
["2017-04-14","sexta-feira","Paixão de Cristo"]
["2017-04-21","sexta-feira","Tiradentes"]
["2017-05-01","segunda-feira","Dia do Trabalho"]
["2017-06-15","quinta-feira","Corpus Christi"]
["2017-09-07","quinta-feira","Independência do Brasil"]
["2017-10-12","quinta-feira","Nossa Sr.a Aparecida - Padroeira do Brasil"]
["2017-11-02","quinta-feira","Finados"]
["2017-11-15","quarta-feira","Proclamação da República"]
["2017-12-25","segunda-feira","Natal"]
["2018-01-01","segunda-feira","Confraternização Universal"]
["2018-02-12","segunda-feira","Carnaval"]
["2018-02-13","terça-feira","Carnaval"]
["2018-03-30","sexta-feira","Paixão de Cristo"]
["2018-04-21","sábado","Tiradentes"]
["2018-05-01","terça-feira","Dia do Trabalho"]
["2018-05-31","quinta-feira","Corpus Christi"]
["2018-09-07","sexta-feira","Independência do Brasil"]
["2018-10-12","sexta-feira","Nossa Sr.a Aparecida - Padroeira do Brasil"]
["2018-11-02","sexta-feira","Finados"]
["2018-11-15","quinta-feira","Proclamação da República"]
["2018-12-25","terça-feira","Natal"]
["2019-01-01","terça-feira","Confraternização Universal"]
["2019-03-04","segunda-feira","Carnaval"]
["2019-03-05","terça-feira","Carnaval"]
["2019-04-19","sexta-feira","Paixão de Cristo"]
["2019-04-21","domingo","Tiradentes"]
["2019-05-01","quarta-feira","Dia do Trabalho"]
["2019-06-20","quinta-feira","Corpus Christi"]
["2019-09-07","sábado","Independência do Brasil"]
["2019-10-12","sábado","Nossa Sr.a Aparecida - Padroeira do Brasil"]
["2019-11-02","sábado","Finados"]
["2019-11-15","sexta-feira","Proclamação da República"]
["2019-12-25","quarta-feira","Natal"]
["2020-01-01","quarta-feira","Confraternização Universal"]
["2020-02-24","segunda-feira","Carnaval"]
["2020-02-25","terça-feira","Carnaval"]
["2020-04-10","sexta-feira","Paixão de Cristo"]
["2020-04-21","terça-feira","Tiradentes"]
["2020-05-01","sexta-feira","Dia do Trabalho"]
["2020-06-11","quinta-feira","Corpus Christi"]
["2020-09-07","segunda-feira","Independência do Brasil"]
["2020-10-12","segunda-feira","Nossa Sr.a Aparecida - Padroeira do Brasil"]
["2020-11-02","segunda-feira","Finados"]
["2020-11-15","domingo","Proclamação da República"]
["2020-12-25","sexta-feira","Natal"]
["2021-01-01","sexta-feira","Confraternização Universal"]
["2021-02-15","segunda-feira","Carnaval"]
["2021-02-16","terça-feira","Carnaval"]
["2021-04-02","sexta-feira","Paixão de Cristo"]
["2021-04-21","quarta-feira","Tiradentes"]
["2021-05-01","sábado","Dia do Trabalho"]
["2021-06-03","quinta-feira","Corpus Christi"]
["2021-09-07","terça-feira","Independência do Brasil"]
["2021-10-12","terça-feira","Nossa Sr.a Aparecida - Padroeira do Brasil"]
["2021-11-02","terça-feira","Finados"]
["2021-11-15","segunda-feira","Proclamação da República"]
["2021-12-25","sábado","Natal"]
["2022-01-01","sábado","Confraternização Universal"]
["2022-02-28","segunda-feira","Carnaval"]
["2022-03-01","terça-feira","Carnaval"]
["2022-04-15","sexta-feira","Paixão de Cristo"]
["2022-04-21","quinta-feira","Tiradentes"]
["2022-05-01","domingo","Dia do Trabalho"]
["2022-06-16","quinta-feira","Corpus Christi"]
["2022-09-07","quarta-feira","Independência do Brasil"]
["2022-10-12","quarta-feira","Nossa Sr.a Aparecida - Padroeira do Brasil"]
["2022-11-02","quarta-feira","Finados"]
["2022-11-15","terça-feira","Proclamação da República"]
["2022-12-25","domingo","Natal"]
["2023-01-01","domingo","Confraternização Universal"]
["2023-02-20","segunda-feira","Carnaval"]
["2023-02-21","terça-feira","Carnaval"]
["2023-04-07","sexta-feira","Paixão de Cristo"]
["2023-04-21","sexta-feira","Tiradentes"]
["2023-05-01","segunda-feira","Dia do Trabalho"]
["2023-06-08","quinta-feira","Corpus Christi"]
["2023-09-07","quinta-feira","Independência do Brasil"]
["2023-10-12","quinta-feira","Nossa Sr.a Aparecida - Padroeira do Brasil"]
["2023-11-02","quinta-feira","Finados"]
["2023-11-15","quarta-feira","Proclamação da República"]
["2023-12-25","segunda-feira","Natal"]
["2024-01-01","segunda-feira","Confraternização Universal"]
["2024-02-12","segunda-feira","Carnaval"]
["2024-02-13","terça-feira","Carnaval"]
["2024-03-29","sexta-feira","Paixão de Cristo"]
["2024-04-21","domingo","Tiradentes"]
["2024-05-01","quarta-feira","Dia do Trabalho"]
["2024-05-30","quinta-feira","Corpus Christi"]
["2024-09-07","sábado","Independência do Brasil"]
["2024-10-12","sábado","Nossa Sr.a Aparecida - Padroeira do Brasil"]
["2024-11-02","sábado","Finados"]
["2024-11-15","sexta-feira","Proclamação da República"]
["2024-12-25","quarta-feira","Natal"]
["2025-01-01","quarta-feira","Confraternização Universal"]
["2025-03-03","segunda-feira","Carnaval"]
["2025-03-04","terça-feira","Carnaval"]
["2025-04-18","sexta-feira","Paixão de Cristo"]
["2025-04-21","segunda-feira","Tiradentes"]
["2025-05-01","quinta-feira","Dia do Trabalho"]
["2025-06-19","quinta-feira","Corpus Christi"]
["2025-09-07","domingo","Independência do Brasil"]
["2025-10-12","domingo","Nossa Sr.a Aparecida - Padroeira do Brasil"]
["2025-11-02","domingo","Finados"]
["2025-11-15","sábado","Proclamação da República"]
["2025-12-25","quinta-feira","Natal"]
["2026-01-01","quinta-feira","Confraternização Universal"]
["2026-02-16","segunda-feira","Carnaval"]
["2026-02-17","terça-feira","Carnaval"]
["2026-04-03","sexta-feira","Paixão de Cristo"]
["2026-04-21","terça-feira","Tiradentes"]
["2026-05-01","sexta-feira","Dia do Trabalho"]
["2026-06-04","quinta-feira","Corpus Christi"]
["2026-09-07","segunda-feira","Independência do Brasil"]
["2026-10-12","segunda-feira","Nossa Sr.a Aparecida - Padroeira do Brasil"]
["2026-11-02","segunda-feira","Finados"]
["2026-11-15","domingo","Proclamação da República"]
["2026-12-25","sexta-feira","Natal"]
["2027-01-01","sexta-feira","Confraternização Universal"]
["2027-02-08","segunda-feira","Carnaval"]
["2027-02-09","terça-feira","Carnaval"]
["2027-03-26","sexta-feira","Paixão de Cristo"]
["2027-04-21","quarta-feira","Tiradentes"]
["2027-05-01","sábado","Dia do Trabalho"]
["2027-05-27","quinta-feira","Corpus Christi"]
["2027-09-07","terça-feira","Independência do Brasil"]
["2027-10-12","terça-feira","Nossa Sr.a Aparecida - Padroeira do Brasil"]
["2027-11-02","terça-feira","Finados"]
["2027-11-15","segunda-feira","Proclamação da República"]
["2027-12-25","sábado","Natal"]
["2028-01-01","sábado","Confraternização Universal"]
["2028-02-28","segunda-feira","Carnaval"]
["2028-02-29","terça-feira","Carnaval"]
["2028-04-14","sexta-feira","Paixão de Cristo"]
["2028-04-21","sexta-feira","Tiradentes"]
["2028-05-01","segunda-feira","Dia do Trabalho"]
["2028-06-15","quinta-feira","Corpus Christi"]
["2028-09-07","quinta-feira","Independência do Brasil"]
["2028-10-12","quinta-feira","Nossa Sr.a Aparecida - Padroeira do Brasil"]
["2028-11-02","quinta-feira","Finados"]
["2028-11-15","quarta-feira","Proclamação da República"]
["2028-12-25","segunda-feira","Natal"]
["2029-01-01","segunda-feira","Confraternização Universal"]
["2029-02-12","segunda-feira","Carnaval"]
["2029-02-13","terça-feira","Carnaval"]
["2029-03-30","sexta-feira","Paixão de Cristo"]
["2029-04-21","sábado","Tiradentes"]
["2029-05-01","terça-feira","Dia do Trabalho"]
["2029-05-31","quinta-feira","Corpus Christi"]
["2029-09-07","sexta-feira","Independência do Brasil"]
["2029-10-12","sexta-feira","Nossa Sr.a Aparecida - Padroeira do Brasil"]
["2029-11-02","sexta-feira","Finados"]
["2029-11-15","quinta-feira","Proclamação da República"]
["2029-12-25","terça-feira","Natal"]
["2030-01-01","terça-feira","Confraternização Universal"]
["2030-03-04","segunda-feira","Carnaval"]
["2030-03-05","terça-feira","Carnaval"]
["2030-04-19","sexta-feira","Paixão de Cristo"]
["2030-04-21","domingo","Tiradentes"]
["2030-05-01","quarta-feira","Dia do Trabalho"]
["2030-06-20","quinta-feira","Corpus Christi"]
["2030-09-07","sábado","Independência do Brasil"]
["2030-10-12","sábado","Nossa Sr.a Aparecida - Padroeira do Brasil"]
["2030-11-02","sábado","Finados"]
["2030-11-15","sexta-feira","Proclamação da República"]
["2030-12-25","quarta-feira","Natal"]
["2031-01-01","quarta-feira","Confraternização Universal"]
["2031-02-24","segunda-feira","Carnaval"]
["2031-02-25","terça-feira","Carnaval"]
["2031-04-11","sexta-feira","Paixão de Cristo"]
["2031-04-21","segunda-feira","Tiradentes"]
["2031-05-01","quinta-feira","Dia do Trabalho"]
["2031-06-12","quinta-feira","Corpus Christi"]
["2031-09-07","domingo","Independência do Brasil"]
["2031-10-12","domingo","Nossa Sr.a Aparecida - Padroeira do Brasil"]
["2031-11-02","domingo","Finados"]
["2031-11-15","sábado","Proclamação da República"]
["2031-12-25","quinta-feira","Natal"]
["2032-01-01","quinta-feira","Confraternização Universal"]
["2032-02-09","segunda-feira","Carnaval"]
["2032-02-10","terça-feira","Carnaval"]
["2032-03-26","sexta-feira","Paixão de Cristo"]
["2032-04-21","quarta-feira","Tiradentes"]
["2032-05-01","sábado","Dia do Trabalho"]
["2032-05-27","quinta-feira","Corpus Christi"]
["2032-09-07","terça-feira","Independência do Brasil"]
["2032-10-12","terça-feira","Nossa Sr.a Aparecida - Padroeira do Brasil"]
["2032-11-02","terça-feira","Finados"]
["2032-11-15","segunda-feira","Proclamação da República"]
["2032-12-25","sábado","Natal"]
["2033-01-01","sábado","Confraternização Universal"]
["2033-02-28","segunda-feira","Carnaval"]
["2033-03-01","terça-feira","Carnaval"]
["2033-04-15","sexta-feira","Paixão de Cristo"]
["2033-04-21","quinta-feira","Tiradentes"]
["2033-05-01","domingo","Dia do Trabalho"]
["2033-06-16","quinta-feira","Corpus Christi"]
["2033-09-07","quarta-feira","Independência do Brasil"]
["2033-10-12","quarta-feira","Nossa Sr.a Aparecida - Padroeira do Brasil"]
["2033-11-02","quarta-feira","Finados"]
["2033-11-15","terça-feira","Proclamação da República"]
["2033-12-25","domingo","Natal"]
["2034-01-01","domingo","Confraternização Universal"]
["2034-02-20","segunda-feira","Carnaval"]
["2034-02-21","terça-feira","Carnaval"]
["2034-04-07","sexta-feira","Paixão de Cristo"]
["2034-04-21","sexta-feira","Tiradentes"]
["2034-05-01","segunda-feira","Dia do Trabalho"]
["2034-06-08","quinta-feira","Corpus Christi"]
["2034-09-07","quinta-feira","Independência do Brasil"]
["2034-10-12","quinta-feira","Nossa Sr.a Aparecida - Padroeira do Brasil"]
["2034-11-02","quinta-feira","Finados"]
["2034-11-15","quarta-feira","Proclamação da República"]
["2034-12-25","segunda-feira","Natal"]
["2035-01-01","segunda-feira","Confraternização Universal"]
["2035-02-05","segunda-feira","Carnaval"]
["2035-02-06","terça-feira","Carnaval"]
["2035-03-23","sexta-feira","Paixão de Cristo"]
["2035-04-21","sábado","Tiradentes"]
["2035-05-01","terça-feira","Dia do Trabalho"]
["2035-05-24","quinta-feira","Corpus Christi"]
["2035-09-07","sexta-feira","Independência do Brasil"]
["2035-10-12","sexta-feira","Nossa Sr.a Aparecida - Padroeira do Brasil"]
["2035-11-02","sexta-feira","Finados"]
["2035-11-15","quinta-feira","Proclamação da República"]
["2035-12-25","terça-feira","Natal"]
["2036-01-01","terça-feira","Confraternização Universal"]
["2036-02-25","segunda-feira","Carnaval"]
["2036-02-26","terça-feira","Carnaval"]
["2036-04-11","sexta-feira","Paixão de Cristo"]
["2036-04-21","segunda-feira","Tiradentes"]
["2036-05-01","quinta-feira","Dia do Trabalho"]
["2036-06-12","quinta-feira","Corpus Christi"]
["2036-09-07","domingo","Independência do Brasil"]
["2036-10-12","domingo","Nossa Sr.a Aparecida - Padroeira do Brasil"]
["2036-11-02","domingo","Finados"]
["2036-11-15","sábado","Proclamação da República"]
["2036-12-25","quinta-feira","Natal"]
["2037-01-01","quinta-feira","Confraternização Universal"]
["2037-02-16","segunda-feira","Carnaval"]
["2037-02-17","terça-feira","Carnaval"]
["2037-04-03","sexta-feira","Paixão de Cristo"]
["2037-04-21","terça-feira","Tiradentes"]
["2037-05-01","sexta-feira","Dia do Trabalho"]
["2037-06-04","quinta-feira","Corpus Christi"]
["2037-09-07","segunda-feira","Independência do Brasil"]
["2037-10-12","segunda-feira","Nossa Sr.a Aparecida - Padroeira do Brasil"]
["2037-11-02","segunda-feira","Finados"]
["2037-11-15","domingo","Proclamação da República"]
["2037-12-25","sexta-feira","Natal"]
["2038-01-01","sexta-feira","Confraternização Universal"]
["2038-03-08","segunda-feira","Carnaval"]
["2038-03-09","terça-feira","Carnaval"]
["2038-04-21","quarta-feira","Tiradentes"]
["2038-04-23","sexta-feira","Paixão de Cristo"]
["2038-05-01","sábado","Dia do Trabalho"]
["2038-06-24","quinta-feira","Corpus Christi"]
["2038-09-07","terça-feira","Independência do Brasil"]
["2038-10-12","terça-feira","Nossa Sr.a Aparecida - Padroeira do Brasil"]
["2038-11-02","terça-feira","Finados"]
["2038-11-15","segunda-feira","Proclamação da República"]
["2038-12-25","sábado","Natal"]
["2039-01-01","sábado","Confraternização Universal"]
["2039-02-21","segunda-feira","Carnaval"]
["2039-02-22","terça-feira","Carnaval"]
["2039-04-08","sexta-feira","Paixão de Cristo"]
["2039-04-21","quinta-feira","Tiradentes"]
["2039-05-01","domingo","Dia do Trabalho"]
["2039-06-09","quinta-feira","Corpus Christi"]
["2039-09-07","quarta-feira","Independência do Brasil"]
["2039-10-12","quarta-feira","Nossa Sr.a Aparecida - Padroeira do Brasil"]
["2039-11-02","quarta-feira","Finados"]
["2039-11-15","terça-feira","Proclamação da República"]
["2039-12-25","domingo","Natal"]
["2040-01-01","domingo","Confraternização Universal"]
["2040-02-13","segunda-feira","Carnaval"]
["2040-02-14","terça-feira","Carnaval"]
["2040-03-30","sexta-feira","Paixão de Cristo"]
["2040-04-21","sábado","Tiradentes"]
["2040-05-01","terça-feira","Dia do Trabalho"]
["2040-05-31","quinta-feira","Corpus Christi"]
["2040-09-07","sexta-feira","Independência do Brasil"]
["2040-10-12","sexta-feira","Nossa Sr.a Aparecida - Padroeira do Brasil"]
["2040-11-02","sexta-feira","Finados"]
["2040-11-15","quinta-feira","Proclamação da República"]
["2040-12-25","terça-feira","Natal"]
["2041-01-01","terça-feira","Confraternização Universal"]
["2041-03-04","segunda-feira","Carnaval"]
["2041-03-05","terça-feira","Carnaval"]
["2041-04-19","sexta-feira","Paixão de Cristo"]
["2041-04-21","domingo","Tiradentes"]
["2041-05-01","quarta-feira","Dia do Trabalho"]
["2041-06-20","quinta-feira","Corpus Christi"]
["2041-09-07","sábado","Independência do Brasil"]
["2041-10-12","sábado","Nossa Sr.a Aparecida - Padroeira do Brasil"]
["2041-11-02","sábado","Finados"]
["2041-11-15","sexta-feira","Proclamação da República"]
["2041-12-25","quarta-feira","Natal"]
["2042-01-01","quarta-feira","Confraternização Universal"]
["2042-02-17","segunda-feira","Carnaval"]
["2042-02-18","terça-feira","Carnaval"]
["2042-04-04","sexta-feira","Paixão de Cristo"]
["2042-04-21","segunda-feira","Tiradentes"]
["2042-05-01","quinta-feira","Dia do Trabalho"]
["2042-06-05","quinta-feira","Corpus Christi"]
["2042-09-07","domingo","Independência do Brasil"]
["2042-10-12","domingo","Nossa Sr.a Aparecida - Padroeira do Brasil"]
["2042-11-02","domingo","Finados"]
["2042-11-15","sábado","Proclamação da República"]
["2042-12-25","quinta-feira","Natal"]
["2043-01-01","quinta-feira","Confraternização Universal"]
["2043-02-09","segunda-feira","Carnaval"]
["2043-02-10","terça-feira","Carnaval"]
["2043-03-27","sexta-feira","Paixão de Cristo"]
["2043-04-21","terça-feira","Tiradentes"]
["2043-05-01","sexta-feira","Dia do Trabalho"]
["2043-05-28","quinta-feira","Corpus Christi"]
["2043-09-07","segunda-feira","Independência do Brasil"]
["2043-10-12","segunda-feira","Nossa Sr.a Aparecida - Padroeira do Brasil"]
["2043-11-02","segunda-feira","Finados"]
["2043-11-15","domingo","Proclamação da República"]
["2043-12-25","sexta-feira","Natal"]
["2044-01-01","sexta-feira","Confraternização Universal"]
["2044-02-29","segunda-feira","Carnaval"]
["2044-03-01","terça-feira","Carnaval"]
["2044-04-15","sexta-feira","Paixão de Cristo"]
["2044-04-21","quinta-feira","Tiradentes"]
["2044-05-01","domingo","Dia do Trabalho"]
["2044-06-16","quinta-feira","Corpus Christi"]
["2044-09-07","quarta-feira","Independência do Brasil"]
["2044-10-12","quarta-feira","Nossa Sr.a Aparecida - Padroeira do Brasil"]
["2044-11-02","quarta-feira","Finados"]
["2044-11-15","terça-feira","Proclamação da República"]
["2044-12-25","domingo","Natal"]
["2045-01-01","domingo","Confraternização Universal"]
["2045-02-20","segunda-feira","Carnaval"]
["2045-02-21","terça-feira","Carnaval"]
["2045-04-07","sexta-feira","Paixão de Cristo"]
["2045-04-21","sexta-feira","Tiradentes"]
["2045-05-01","segunda-feira","Dia do Trabalho"]
["2045-06-08","quinta-feira","Corpus Christi"]
["2045-09-07","quinta-feira","Independência do Brasil"]
["2045-10-12","quinta-feira","Nossa Sr.a Aparecida - Padroeira do Brasil"]
["2045-11-02","quinta-feira","Finados"]
["2045-11-15","quarta-feira","Proclamação da República"]
["2045-12-25","segunda-feira","Natal"]
["2046-01-01","segunda-feira","Confraternização Universal"]
["2046-02-05","segunda-feira","Carnaval"]
["2046-02-06","terça-feira","Carnaval"]
["2046-03-23","sexta-feira","Paixão de Cristo"]
["2046-04-21","sábado","Tiradentes"]
["2046-05-01","terça-feira","Dia do Trabalho"]
["2046-05-24","quinta-feira","Corpus Christi"]
["2046-09-07","sexta-feira","Independência do Brasil"]
["2046-10-12","sexta-feira","Nossa Sr.a Aparecida - Padroeira do Brasil"]
["2046-11-02","sexta-feira","Finados"]
["2046-11-15","quinta-feira","Proclamação da República"]
["2046-12-25","terça-feira","Natal"]
["2047-01-01","terça-feira","Confraternização Universal"]
["2047-02-25","segunda-feira","Carnaval"]
["2047-02-26","terça-feira","Carnaval"]
["2047-04-12","sexta-feira","Paixão de Cristo"]
["2047-04-21","terça-feira","Tiradentes"]
["2047-05-01","quarta-feira","Dia do Trabalho"]
["2047-06-13","quinta-feira","Corpus Christi"]
["2047-09-07","sábado","Independência do Brasil"]
["2047-10-12","sábado","Nossa Sr.a Aparecida - Padroeira do Brasil"]
["2047-11-02","sábado","Finados"]
["2047-11-15","sexta-feira","Proclamação da República"]
["2047-12-25","quarta-feira","Natal"]
["2048-01-01","quarta-feira","Confraternização Universal"]
["2048-02-17","segunda-feira","Carnaval"]
["2048-02-18","terça-feira","Carnaval"]
["2048-04-03","sexta-feira","Paixão de Cristo"]
["2048-04-21","terça-feira","Tiradentes"]
["2048-05-01","sexta-feira","Dia do Trabalho"]
["2048-06-04","quinta-feira","Corpus Christi"]
["2048-09-07","segunda-feira","Independência do Brasil"]
["2048-10-12","segunda-feira","Nossa Sr.a Aparecida - Padroeira do Brasil"]
["2048-11-02","segunda-feira","Finados"]
["2048-11-15","domingo","Proclamação da República"]
["2048-12-25","sexta-feira","Natal"]
["2049-01-01","sexta-feira","Confraternização Universal"]
["2049-03-01","segunda-feira","Carnaval"]
["2049-03-02","terça-feira","Carnaval"]
["2049-04-16","sexta-feira","Paixão de Cristo"]
["2049-04-21","quarta-feira","Tiradentes"]
["2049-05-01","sábado","Dia do Trabalho"]
["2049-06-17","quinta-feira","Corpus Christi"]
["2049-09-07","terça-feira","Independência do Brasil"]
["2049-10-12","terça-feira","Nossa Sr.a Aparecida - Padroeira do Brasil"]
["2049-11-02","terça-feira","Finados"]
["2049-11-15","segunda-feira","Proclamação da República"]
["2049-12-25","sábado","Natal"]
["2050-01-01","sábado","Confraternização Universal"]
["2050-02-21","segunda-feira","Carnaval"]
["2050-02-22","terça-feira","Carnaval"]
["2050-04-08","sexta-feira","Paixão de Cristo"]
["2050-04-21","quinta-feira","Tiradentes"]
["2050-05-01","domingo","Dia do Trabalho"]
["2050-06-09","quinta-feira","Corpus Christi"]
["2050-09-07","quarta-feira","Independência do Brasil"]
["2050-10-12","quarta-feira","Nossa Sr.a Aparecida - Padroeira do Brasil"]
["2050-11-02","quarta-feira","Finados"]
["2050-11-15","terça-feira","Proclamação da República"]
["2050-12-25","domingo","Natal"]
["2051-01-01","domingo","Confraternização Universal"]
["2051-02-13","segunda-feira","Carnaval"]
["2051-02-14","terça-feira","Carnaval"]
["2051-03-31","sexta-feira","Paixão de Cristo"]
["2051-04-21","sexta-feira","Tiradentes"]
["2051-05-01","segunda-feira","Dia do Trabalho"]
["2051-06-01","quinta-feira","Corpus Christi"]
["2051-09-07","quinta-feira","Independência do Brasil"]
["2051-10-12","quinta-feira","Nossa Sr.a Aparecida - Padroeira do Brasil"]
["2051-11-02","quinta-feira","Finados"]
["2051-11-15","quarta-feira","Proclamação da República"]
["2051-12-25","segunda-feira","Natal"]
["2052-01-01","segunda-feira","Confraternização Universal"]
["2052-03-04","segunda-feira","Carnaval"]
["2052-03-05","terça-feira","Carnaval"]
["2052-04-19","sexta-feira","Paixão de Cristo"]
["2052-04-21","domingo","Tiradentes"]
["2052-05-01","quarta-feira","Dia do Trabalho"]
["2052-06-20","quinta-feira","Corpus Christi"]
["2052-09-07","sábado","Independência do Brasil"]
["2052-10-12","sábado","Nossa Sr.a Aparecida - Padroeira do Brasil"]
["2052-11-02","sábado","Finados"]
["2052-11-15","sexta-feira","Proclamação da República"]
["2052-12-25","quarta-feira","Natal"]
["2053-01-01","quarta-feira","Confraternização Universal"]
["2053-02-17","segunda-feira","Carnaval"]
["2053-02-18","terça-feira","Carnaval"]
["2053-04-04","sexta-feira","Paixão de Cristo"]
["2053-04-21","segunda-feira","Tiradentes"]
["2053-05-01","quinta-feira","Dia do Trabalho"]
["2053-06-05","quinta-feira","Corpus Christi"]
["2053-09-07","domingo","Independência do Brasil"]
["2053-10-12","domingo","Nossa Sr.a Aparecida - Padroeira do Brasil"]
["2053-11-02","domingo","Finados"]
["2053-11-15","sábado","Proclamação da República"]
["2053-12-25","quinta-feira","Natal"]
["2054-01-01","quinta-feira","Confraternização Universal"]
["2054-02-09","segunda-feira","Carnaval"]
["2054-02-10","terça-feira","Carnaval"]
["2054-03-27","sexta-feira","Paixão de Cristo"]
["2054-04-21","terça-feira","Tiradentes"]
["2054-05-01","sexta-feira","Dia do Trabalho"]
["2054-05-28","quinta-feira","Corpus Christi"]
["2054-09-07","segunda-feira","Independência do Brasil"]
["2054-10-12","segunda-feira","Nossa Sr.a Aparecida - Padroeira do Brasil"]
["2054-11-02","segunda-feira","Finados"]
["2054-11-15","domingo","Proclamação da República"]
["2054-12-25","sexta-feira","Natal"]
["2055-01-01","sexta-feira","Confraternização Universal"]
["2055-03-01","segunda-feira","Carnaval"]
["2055-03-02","terça-feira","Carnaval"]
["2055-04-16","sexta-feira","Paixão de Cristo"]
["2055-04-21","quarta-feira","Tiradentes"]
["2055-05-01","sábado","Dia do Trabalho"]
["2055-06-17","quinta-feira","Corpus Christi"]
["2055-09-07","terça-feira","Independência do Brasil"]
["2055-10-12","terça-feira","Nossa Sr.a Aparecida - Padroeira do Brasil"]
["2055-11-02","terça-feira","Finados"]
["2055-11-15","segunda-feira","Proclamação da República"]
["2055-12-25","sábado","Natal"]
["2056-01-01","sábado","Confraternização Universal"]
["2056-02-14","segunda-feira","Carnaval"]
["2056-02-15","terça-feira","Carnaval"]
["2056-03-31","sexta-feira","Paixão de Cristo"]
["2056-04-21","sexta-feira","Tiradentes"]
["2056-05-01","segunda-feira","Dia do Trabalho"]
["2056-06-01","quinta-feira","Corpus Christi"]
["2056-09-07","quinta-feira","Independência do Brasil"]
["2056-10-12","quinta-feira","Nossa Sr.a Aparecida - Padroeira do Brasil"]
["2056-11-02","quinta-feira","Finados"]
["2056-11-15","quarta-feira","Proclamação da República"]
["2056-12-25","segunda-feira","Natal"]
["2057-01-01","segunda-feira","Confraternização Universal"]
["2057-03-05","segunda-feira","Carnaval"]
["2057-03-06","terça-feira","Carnaval"]
["2057-04-20","sexta-feira","Paixão de Cristo"]
["2057-04-21","sábado","Tiradentes"]
["2057-05-01","terça-feira","Dia do Trabalho"]
["2057-06-21","quinta-feira","Corpus Christi"]
["2057-09-07","sexta-feira","Independência do Brasil"]
["2057-10-12","sexta-feira","Nossa Sr.a Aparecida - Padroeira do Brasil"]
["2057-11-02","sexta-feira","Finados"]
["2057-11-15","quinta-feira","Proclamação da República"]
["2057-12-25","terça-feira","Natal"]
["2058-01-01","terça-feira","Confraternização Universal"]
["2058-02-25","segunda-feira","Carnaval"]
["2058-02-26","terça-feira","Carnaval"]
["2058-04-12","sexta-feira","Paixão de Cristo"]
["2058-04-21","domingo","Tiradentes"]
["2058-05-01","quarta-feira","Dia do Trabalho"]
["2058-06-13","quinta-feira","Corpus Christi"]
["2058-09-07","sábado","Independência do Brasil"]
["2058-10-12","sábado","Nossa Sr.a Aparecida - Padroeira do Brasil"]
["2058-11-02","sábado","Finados"]
["2058-11-15","sexta-feira","Proclamação da República"]
["2058-12-25","quarta-feira","Natal"]
["2059-01-01","quarta-feira","Confraternização Universal"]
["2059-02-10","segunda-feira","Carnaval"]
["2059-02-11","terça-feira","Carnaval"]
["2059-03-28","sexta-feira","Paixão de Cristo"]
["2059-04-21","segunda-feira","Tiradentes"]
["2059-05-01","quinta-feira","Dia do Trabalho"]
["2059-05-29","quinta-feira","Corpus Christi"]
["2059-09-07","domingo","Independência do Brasil"]
["2059-10-12","domingo","Nossa Sr.a Aparecida - Padroeira do Brasil"]
["2059-11-02","domingo","Finados"]
["2059-11-15","sábado","Proclamação da República"]
["2059-12-25","quinta-feira","Natal"]
["2060-01-01","quinta-feira","Confraternização Universal"]
["2060-03-01","segunda-feira","Carnaval"]
["2060-03-02","terça-feira","Carnaval"]
["2060-04-16","sexta-feira","Paixão de Cristo"]
["2060-04-21","quarta-feira","Tiradentes"]
["2060-05-01","sábado","Dia do Trabalho"]
["2060-06-17","quinta-feira","Corpus Christi"]
["2060-09-07","terça-feira","Independência do Brasil"]
["2060-10-12","terça-feira","Nossa Sr.a Aparecida - Padroeira do Brasil"]
["2060-11-02","terça-feira","Finados"]
["2060-11-15","segunda-feira","Proclamação da República"]
["2060-12-25","sábado","Natal"]
["2061-01-01","sábado","Confraternização Universal"]
["2061-02-21","segunda-feira","Carnaval"]
["2061-02-22","terça-feira","Carnaval"]
["2061-04-08","sexta-feira","Paixão de Cristo"]
["2061-04-21","quinta-feira","Tiradentes"]
["2061-05-01","domingo","Dia do Trabalho"]
["2061-06-09","quinta-feira","Corpus Christi"]
["2061-09-07","quarta-feira","Independência do Brasil"]
["2061-10-12","quarta-feira","Nossa Sr.a Aparecida - Padroeira do Brasil"]
["2061-11-02","quarta-feira","Finados"]
["2061-11-15","terça-feira","Proclamação da República"]
["2061-12-25","domingo","Natal"]
["2062-01-01","domingo","Confraternização Universal"]
["2062-02-06","segunda-feira","Carnaval"]
["2062-02-07","terça-feira","Carnaval"]
["2062-03-24","sexta-feira","Paixão de Cristo"]
["2062-04-21","sexta-feira","Tiradentes"]
["2062-05-01","segunda-feira","Dia do Trabalho"]
["2062-05-25","quinta-feira","Corpus Christi"]
["2062-09-07","quinta-feira","Independência do Brasil"]
["2062-10-12","quinta-feira","Nossa Sr.a Aparecida - Padroeira do Brasil"]
["2062-11-02","quinta-feira","Finados"]
["2062-11-15","quarta-feira","Proclamação da República"]
["2062-12-25","segunda-feira","Natal"]
["2063-01-01","segunda-feira","Confraternização Universal"]
["2063-02-26","segunda-feira","Carnaval"]
["2063-02-27","terça-feira","Carnaval"]
["2063-04-13","sexta-feira","Paixão de Cristo"]
["2063-04-21","sábado","Tiradentes"]
["2063-05-01","terça-feira","Dia do Trabalho"]
["2063-06-14","quinta-feira","Corpus Christi"]
["2063-09-07","sexta-feira","Independência do Brasil"]
["2063-10-12","sexta-feira","Nossa Sr.a Aparecida - Padroeira do Brasil"]
["2063-11-02","sexta-feira","Finados"]
["2063-11-15","quinta-feira","Proclamação da República"]
["2063-12-25","terça-feira","Natal"]
["2064-01-01","terça-feira","Confraternização Universal"]
["2064-02-18","segunda-feira","Carnaval"]
["2064-02-19","terça-feira","Carnaval"]
["2064-04-04","sexta-feira","Paixão de Cristo"]
["2064-04-21","segunda-feira","Tiradentes"]
["2064-05-01","quinta-feira","Dia do Trabalho"]
["2064-06-05","quinta-feira","Corpus Christi"]
["2064-09-07","domingo","Independência do Brasil"]
["2064-10-12","domingo","Nossa Sr.a Aparecida - Padroeira do Brasil"]
["2064-11-02","domingo","Finados"]
["2064-11-15","sábado","Proclamação da República"]
["2064-12-25","quinta-feira","Natal"]
["2065-01-01","quinta-feira","Confraternização Universal"]
["2065-02-09","segunda-feira","Carnaval"]
["2065-02-10","terça-feira","Carnaval"]
["2065-03-27","sexta-feira","Paixão de Cristo"]
["2065-04-21","terça-feira","Tiradentes"]
["2065-05-01","sexta-feira","Dia do Trabalho"]
["2065-05-28","quinta-feira","Corpus Christi"]
["2065-09-07","segunda-feira","Independência do Brasil"]
["2065-10-12","segunda-feira","Nossa Sr.a Aparecida - Padroeira do Brasil"]
["2065-11-02","segunda-feira","Finados"]
["2065-11-15","domingo","Proclamação da República"]
["2065-12-25","sexta-feira","Natal"]
["2066-01-01","sexta-feira","Confraternização Universal"]
["2066-02-22","segunda-feira","Carnaval"]
["2066-02-23","terça-feira","Carnaval"]
["2066-04-09","sexta-feira","Paixão de Cristo"]
["2066-04-21","quarta-feira","Tiradentes"]
["2066-05-01","sábado","Dia do Trabalho"]
["2066-06-10","quinta-feira","Corpus Christi"]
["2066-09-07","terça-feira","Independência do Brasil"]
["2066-10-12","terça-feira","Nossa Sr.a Aparecida - Padroeira do Brasil"]
["2066-11-02","terça-feira","Finados"]
["2066-11-15","segunda-feira","Proclamação da República"]
["2066-12-25","sábado","Natal"]
["2067-01-01","sábado","Confraternização Universal"]
["2067-02-14","segunda-feira","Carnaval"]
["2067-02-15","terça-feira","Carnaval"]
["2067-04-01","sexta-feira","Paixão de Cristo"]
["2067-04-21","quinta-feira","Tiradentes"]
["2067-05-01","domingo","Dia do Trabalho"]
["2067-06-02","quinta-feira","Corpus Christi"]
["2067-09-07","quarta-feira","Independência do Brasil"]
["2067-10-12","quarta-feira","Nossa Sr.a Aparecida - Padroeira do Brasil"]
["2067-11-02","quarta-feira","Finados"]
["2067-11-15","terça-feira","Proclamação da República"]
["2067-12-25","domingo","Natal"]
["2068-01-01","domingo","Confraternização Universal"]
["2068-03-05","segunda-feira","Carnaval"]
["2068-03-06","terça-feira","Carnaval"]
["2068-04-20","sexta-feira","Paixão de Cristo"]
["2068-04-21","sábado","Tiradentes"]
["2068-05-01","terça-feira","Dia do Trabalho"]
["2068-06-21","quinta-feira","Corpus Christi"]
["2068-09-07","sexta-feira","Independência do Brasil"]
["2068-10-12","sexta-feira","Nossa Sr.a Aparecida - Padroeira do Brasil"]
["2068-11-02","sexta-feira","Finados"]
["2068-11-15","quinta-feira","Proclamação da República"]
["2068-12-25","terça-feira","Natal"]
["2069-01-01","terça-feira","Confraternização Universal"]
["2069-02-25","segunda-feira","Carnaval"]
["2069-02-26","terça-feira","Carnaval"]
["2069-04-12","sexta-feira","Paixão de Cristo"]
["2069-04-21","domingo","Tiradentes"]
["2069-05-01","quarta-feira","Dia do Trabalho"]
["2069-06-13","quinta-feira","Corpus Christi"]
["2069-09-07","sábado","Independência do Brasil"]
["2069-10-12","sábado","Nossa Sr.a Aparecida - Padroeira do Brasil"]
["2069-11-02","sábado","Finados"]
["2069-11-15","sexta-feira","Proclamação da República"]
["2069-12-25","quarta-feira","Natal"]
["2070-01-01","quarta-feira","Confraternização Universal"]
["2070-02-10","segunda-feira","Carnaval"]
["2070-02-11","terça-feira","Carnaval"]
["2070-03-28","sexta-feira","Paixão de Cristo"]
["2070-04-21","segunda-feira","Tiradentes"]
["2070-05-01","quinta-feira","Dia do Trabalho"]
["2070-05-29","quinta-feira","Corpus Christi"]
["2070-09-07","domingo","Independência do Brasil"]
["2070-10-12","domingo","Nossa Sr.a Aparecida - Padroeira do Brasil"]
["2070-11-02","domingo","Finados"]
["2070-11-15","sábado","Proclamação da República"]
["2070-12-25","quinta-feira","Natal"]
["2071-01-01","quinta-feira","Confraternização Universal"]
["2071-03-02","segunda-feira","Carnaval"]
["2071-03-03","terça-feira","Carnaval"]
["2071-04-17","sexta-feira","Paixão de Cristo"]
["2071-04-21","terça-feira","Tiradentes"]
["2071-05-01","sexta-feira","Dia do Trabalho"]
["2071-06-18","quinta-feira","Corpus Christi"]
["2071-09-07","segunda-feira","Independência do Brasil"]
["2071-10-12","segunda-feira","Nossa Sr.a Aparecida - Padroeira do Brasil"]
["2071-11-02","segunda-feira","Finados"]
["2071-11-15","domingo","Proclamação da República"]
["2071-12-25","sexta-feira","Natal"]
["2072-01-01","sexta-feira","Confraternização Universal"]
["2072-02-22","segunda-feira","Carnaval"]
["2072-02-23","terça-feira","Carnaval"]
["2072-04-08","sexta-feira","Paixão de Cristo"]
["2072-04-21","quinta-feira","Tiradentes"]
["2072-05-01","domingo","Dia do Trabalho"]
["2072-06-09","quinta-feira","Corpus Christi"]
["2072-09-07","quarta-feira","Independência do Brasil"]
["2072-10-12","quarta-feira","Nossa Sr.a Aparecida - Padroeira do Brasil"]
["2072-11-02","quarta-feira","Finados"]
["2072-11-15","terça-feira","Proclamação da República"]
["2072-12-25","domingo","Natal"]
["2073-01-01","domingo","Confraternização Universal"]
["2073-02-06","segunda-feira","Carnaval"]
["2073-02-07","terça-feira","Carnaval"]
["2073-03-24","sexta-feira","Paixão de Cristo"]
["2073-04-21","sexta-feira","Tiradentes"]
["2073-05-01","segunda-feira","Dia do Trabalho"]
["2073-05-25","quinta-feira","Corpus Christi"]
["2073-09-07","quinta-feira","Independência do Brasil"]
["2073-10-12","quinta-feira","Nossa Sr.a Aparecida - Padroeira do Brasil"]
["2073-11-02","quinta-feira","Finados"]
["2073-11-15","quarta-feira","Proclamação da República"]
["2073-12-25","segunda-feira","Natal"]
["2074-01-01","segunda-feira","Confraternização Universal"]
["2074-02-26","segunda-feira","Carnaval"]
["2074-02-27","terça-feira","Carnaval"]
["2074-04-13","sexta-feira","Paixão de Cristo"]
["2074-04-21","sábado","Tiradentes"]
["2074-05-01","terça-feira","Dia do Trabalho"]
["2074-06-14","quinta-feira","Corpus Christi"]
["2074-09-07","sexta-feira","Independência do Brasil"]
["2074-10-12","sexta-feira","Nossa Sr.a Aparecida - Padroeira do Brasil"]
["2074-11-02","sexta-feira","Finados"]
["2074-11-15","quinta-feira","Proclamação da República"]
["2074-12-25","terça-feira","Natal"]
["2075-01-01","terça-feira","Confraternização Universal"]
["2075-02-18","segunda-feira","Carnaval"]
["2075-02-19","terça-feira","Carnaval"]
["2075-04-05","sexta-feira","Paixão de Cristo"]
["2075-04-21","domingo","Tiradentes"]
["2075-05-01","quarta-feira","Dia do Trabalho"]
["2075-06-06","quinta-feira","Corpus Christi"]
["2075-09-07","sábado","Independência do Brasil"]
["2075-10-12","sábado","Nossa Sr.a Aparecida - Padroeira do Brasil"]
["2075-11-02","sábado","Finados"]
["2075-11-15","sexta-feira","Proclamação da República"]
["2075-12-25","quarta-feira","Natal"]
["2076-01-01","quarta-feira","Confraternização Universal"]
["2076-03-02","segunda-feira","Carnaval"]
["2076-03-03","terça-feira","Carnaval"]
["2076-04-17","sexta-feira","Paixão de Cristo"]
["2076-04-21","terça-feira","Tiradentes"]
["2076-05-01","sexta-feira","Dia do Trabalho"]
["2076-06-18","quinta-feira","Corpus Christi"]
["2076-09-07","segunda-feira","Independência do Brasil"]
["2076-10-12","segunda-feira","Nossa Sr.a Aparecida - Padroeira do Brasil"]
["2076-11-02","segunda-feira","Finados"]
["2076-11-15","domingo","Proclamação da República"]
["2076-12-25","sexta-feira","Natal"]
["2077-01-01","sexta-feira","Confraternização Universal"]
["2077-02-22","segunda-feira","Carnaval"]
["2077-02-23","terça-feira","Carnaval"]
["2077-04-09","sexta-feira","Paixão de Cristo"]
["2077-04-21","quarta-feira","Tiradentes"]
["2077-05-01","sábado","Dia do Trabalho"]
["2077-06-10","quinta-feira","Corpus Christi"]
["2077-09-07","terça-feira","Independência do Brasil"]
["2077-10-12","terça-feira","Nossa Sr.a Aparecida - Padroeira do Brasil"]
["2077-11-02","terça-feira","Finados"]
["2077-11-15","segunda-feira","Proclamação da República"]
["2077-12-25","sábado","Natal"]
["2078-01-01","terça-feira","Confraternização Universal"]
["2078-02-14","segunda-feira","Carnaval"]
["2078-02-15","terça-feira","Carnaval"]
["2078-04-01","sexta-feira","Paixão de Cristo"]
["2078-04-21","quinta-feira","Tiradentes"]
["2078-05-01","quarta-feira","Dia do Trabalho"]
["2078-06-02","quinta-feira","Corpus Christi"]
["2078-09-07","quarta-feira","Independência do Brasil"]
["2078-10-12","quarta-feira","Nossa Sr.a Aparecida - Padroeira do Brasil"]
["2078-11-02","quarta-feira","Finados"]
["2078-11-15","terça-feira","Proclamação da República"]
["2078-12-25","quarta-feira","Natal"]
["Fonte: ANBIMA"]
[]
["1) De acordo com a Resolução n º 2.516, a partir do ano 2000, a quinta-feira da Semana Santa foi considerada dia útil. Esta mesma Resolução dispensou as instituições financeiras do cumprimento do horário mínimo de funcionamento, desde que informem ao público."]
[]
["2) A lei nº 9.504/97 estabeleceu que, em ano eleitoral, o 1º turno das eleições será realizado no primeiro domingo de outubro; e o 2º turno, quando houver, no último domingo do referido mês."]
[]
["3) De acordo com a Resolução nº 2.596/99, no último dia útil do ano não haverá atendimento ao público."]
[]
["4) Esta listagem não inclui os feriados municipais, eleições e o último dia do ano. O critério adotado foi o de indicar os feriados em que não há sensibilização das Reservas Bancárias."]

{"sheet":"Gatheral","index":5,"n_rows":37,"n_cols":9,"rows_kept":37,"cut":false,"hidden":false,"merged":[]}
["Data","2024-07-01"]
[{"$f":"\"Smile de Vol FX para \" & TEXT(B1,\"mmm/aaaa\")","v":"Smile de Vol FX para jul/2024"}]
["a",3.4031486015094557E-2]
["b",2.4586389230004453E-2]
["r",-0.65459987764234295]
["s",4.3847422400224389E-4]
["m",0.17142598273902745]
["b(1+|r|)T",{"$f":"B4*(1+ABS(B5))*B11/252","v":9.072427688784683E-2}]
["S",4.66]
["DC",{"$f":"VLOOKUP(B1,'Superfície de Vol Dias Úteis'!$A$2:$M$18,1,FALSE)-'Superfície de Vol Dias Úteis'!$A$1","v":822}]
["DU",{"$f":"VLOOKUP(B1,'Superfície de Vol Dias Úteis'!$A$2:$M$18,2,FALSE)","v":562}]
["Taxa Pré",{"$f":"InterpolaPre(B11)","v":0.11430000000000007}]
["Cupom Cambial",{"$f":"InterpolaCupom(B10)","v":3.1199999999999988E-2}]
["r1",{"$f":"LN(1+B12)","v":0.10822640507087125},"Taxa Contínua"]
["r2",{"$f":"252/B11*LN(1+B13*B10/360)","v":3.085738026917749E-2},"Taxa Contínua"]
["F",{"$f":"B9*EXP((B14-B15)*B11/252)","v":5.5375970116016111}]
[]
["D","Vol Observada","Var(x)","x","Vol Gatheral","sx-sBS","e2","Moneyness","K equivalente"]
[{"$f":"TRANSPOSE('Superfície de Vol Dias Úteis'!C1:M1)","v":0.01},{"$f":"VLOOKUP($B$1,'Superfície de Vol Dias Úteis'!$A$2:$M$18,3,FALSE)","v":0.26727100322750558},{"$f":"Gatheral($B$3,$B$4,$B$6,$B$5,$B$7,A19,$B$11/252,B19,\"Varx\")","v":7.6657697550633563E-2},{"$f":"Gatheral($B$3,$B$4,$B$6,$B$5,$B$7,A19,$B$11/252,B19,\"x\")","v":-0.8763995389427266},{"$f":"SQRT(C19)","v":0.27687126530326972},{"$f":"SQRT(C19)-B19","v":9.6002620757641433E-3},{"$f":"F19^2","v":9.2165031923355258E-5},{"$f":"D19","v":-0.8763995389427266},{"$f":"$B$16*EXP(D19)","v":2.3051854190102401}]
[0.05,{"$f":"VLOOKUP($B$1,'Superfície de Vol Dias Úteis'!$A$2:$M$18,4,FALSE)","v":0.25833021363319214},{"$f":"Gatheral($B$3,$B$4,$B$6,$B$5,$B$7,A20,$B$11/252,B20,\"Varx\")","v":6.3270370240820203E-2},{"$f":"Gatheral($B$3,$B$4,$B$6,$B$5,$B$7,A20,$B$11/252,B20,\"x\")","v":-0.5473159882015467},{"$f":"SQRT(C20)","v":0.25153602175597078},{"$f":"SQRT(C20)-B20","v":-6.7941918772213561E-3},{"$f":"F20^2","v":4.6161043264500652E-5},{"$f":"D20","v":-0.5473159882015467},{"$f":"$B$16*EXP(D20)","v":3.2035022550867862}]
[0.1,{"$f":"VLOOKUP($B$1,'Superfície de Vol Dias Úteis'!$A$2:$M$18,5,FALSE)","v":0.2479167290997176},{"$f":"Gatheral($B$3,$B$4,$B$6,$B$5,$B$7,A21,$B$11/252,B21,\"Varx\")","v":5.7008404753943281E-2},{"$f":"Gatheral($B$3,$B$4,$B$6,$B$5,$B$7,A21,$B$11/252,B21,\"x\")","v":-0.39338608678811632},0.23876432889764601,-9.1524002020715867E-3,8.3766429458880022E-5,-0.39338608678811632,3.7365942471769298]
[0.25,{"$f":"VLOOKUP($B$1,'Superfície de Vol Dias Úteis'!$A$2:$M$18,6,FALSE)","v":0.22142785825603656},{"$f":"Gatheral($B$3,$B$4,$B$6,$B$5,$B$7,A22,$B$11/252,B22,\"Varx\")","v":4.7795376022452173E-2},{"$f":"Gatheral($B$3,$B$4,$B$6,$B$5,$B$7,A22,$B$11/252,B22,\"x\")","v":-0.16691392952011458},0.21862153604448983,-2.8063222115467246E-3,7.8754443550204983E-6,-0.16691392952011458,4.686315775048997]
[0.37,{"$f":"VLOOKUP($B$1,'Superfície de Vol Dias Úteis'!$A$2:$M$18,7,FALSE)","v":0.20542818901346074},{"$f":"Gatheral($B$3,$B$4,$B$6,$B$5,$B$7,A23,$B$11/252,B23,\"Varx\")","v":4.3235969001434754E-2},{"$f":"Gatheral($B$3,$B$4,$B$6,$B$5,$B$7,A23,$B$11/252,B23,\"x\")","v":-5.4835779789967391E-2},0.20793260687404166,2.5044178605809209E-3,6.2721088203967171E-6,-5.4835779789967391E-2,5.2421141172323438]
[0.5,{"$f":"VLOOKUP($B$1,'Superfície de Vol Dias Úteis'!$A$2:$M$18,8,FALSE)","v":0.19330266435721336},{"$f":"Gatheral($B$3,$B$4,$B$6,$B$5,$B$7,A24,$B$11/252,B24,\"Varx\")","v":3.9225854014386462E-2},{"$f":"Gatheral($B$3,$B$4,$B$6,$B$5,$B$7,A24,$B$11/252,B24,\"x\")","v":4.3739940389059678E-2},0.19805517921626403,4.7525148590506772E-3,2.2586397485497479E-5,4.3739940389059678E-2,5.7851864766163983]
[0.63,{"$f":"VLOOKUP($B$1,'Superfície de Vol Dias Úteis'!$A$2:$M$18,9,FALSE)","v":0.18659288807177071},{"$f":"Gatheral($B$3,$B$4,$B$6,$B$5,$B$7,A25,$B$11/252,B25,\"Varx\")","v":3.5587707955808762E-2},{"$f":"Gatheral($B$3,$B$4,$B$6,$B$5,$B$7,A25,$B$11/252,B25,\"x\")","v":0.13317289018957743},0.18864704597689508,2.0541579051243652E-3,4.219564699184921E-6,0.13317289018957743,6.3264138576042663]
[0.75,{"$f":"VLOOKUP($B$1,'Superfície de Vol Dias Úteis'!$A$2:$M$18,10,FALSE)","v":0.18520612567586339},{"$f":"Gatheral($B$3,$B$4,$B$6,$B$5,$B$7,A26,$B$11/252,B26,\"Varx\")","v":3.4490959797299173E-2},{"$f":"Gatheral($B$3,$B$4,$B$6,$B$5,$B$7,A26,$B$11/252,B26,\"x\")","v":0.22552659766973879},0.1857174192080516,5.1129353218820617E-4,2.6142107605749221E-7,0.22552659766973879,6.9385113727917815]
[0.9,{"$f":"VLOOKUP($B$1,'Superfície de Vol Dias Úteis'!$A$2:$M$18,11,FALSE)","v":0.18996195697144047},{"$f":"Gatheral($B$3,$B$4,$B$6,$B$5,$B$7,A27,$B$11/252,B27,\"Varx\")","v":3.6000341578980251E-2},{"$f":"Gatheral($B$3,$B$4,$B$6,$B$5,$B$7,A27,$B$11/252,B27,\"x\")","v":0.40326918610533019},0.18973755974761627,-2.2439722382419647E-4,5.0354114060006526E-8,0.40326918610533019,8.2881753330949071]
[0.95,{"$f":"VLOOKUP($B$1,'Superfície de Vol Dias Úteis'!$A$2:$M$18,12,FALSE)","v":0.19304490101676236},{"$f":"Gatheral($B$3,$B$4,$B$6,$B$5,$B$7,A28,$B$11/252,B28,\"Varx\")","v":3.6934390395690124E-2},{"$f":"Gatheral($B$3,$B$4,$B$6,$B$5,$B$7,A28,$B$11/252,B28,\"x\")","v":0.51325935272790812},0.19218322090049933,-8.6168011626303054E-4,7.4249262276306986E-7,0.51325935272790812,9.2518173913924393]
[0.99,{"$f":"VLOOKUP($B$1,'Superfície de Vol Dias Úteis'!$A$2:$M$18,13,FALSE)","v":0.19627640737036614},{"$f":"Gatheral($B$3,$B$4,$B$6,$B$5,$B$7,A29,$B$11/252,B29,\"Varx\")","v":3.8750264398084967E-2},{"$f":"Gatheral($B$3,$B$4,$B$6,$B$5,$B$7,A29,$B$11/252,B29,\"x\")","v":0.72708958490165376},0.19685086842095711,5.7446105059097419E-4,3.3000549864608582E-7,0.72708958490165376,11.457565327911603]
[null,null,null,null,null,null,{"$f":"SUM(G19:G29)","v":2.6443029331836213E-4}]
[]
["Estimativa"]
["K",{"$f":"I28","v":9.2518173913924393}]
["x",{"$f":"-LN(B16/B33)","v":0.51325935272790801}]
["Varx",{"$f":"B3+B4*(B5*(B34-B7)+SQRT((B34-B7)^2+B6^2))","v":3.6934390395690124E-2}]
["Vol BS",{"$f":"SQRT(B35)","v":0.19218322090049933}]
["D",{"$f":"_xlfn.NORM.S.DIST(((B34-0.5*B35*B11/252))/SQRT(B35*B11/252),TRUE)","v":0.95000000000001439}]

{"sheet":"Cupom B3","index":6,"n_rows":270,"n_cols":2,"rows_kept":270,"cut":false,"hidden":false,"merged":[]}
["Hoje","2022-04-01"]
[]
["Dias Corridos","Cupom Cambial"]
[3,-0.7984]
[7,-0.25700000000000001]
[12,-0.11259999999999999]
[13,-9.2499999999999999E-2]
[17,-6.1900000000000004E-2]
[21,-2.8799999999999999E-2]
[27,-2.0000000000000001E-4]
[28,5.1999999999999998E-3]
[31,9.4999999999999998E-3]
[33,9.7000000000000003E-3]
[45,9.4999999999999998E-3]
[49,9.8999999999999991E-3]
[52,9.5999999999999992E-3]
[59,9.5999999999999992E-3]
[60,9.5999999999999992E-3]
[61,9.7000000000000003E-3]
[70,9.8999999999999991E-3]
[75,9.7999999999999997E-3]
[77,9.7000000000000003E-3]
[89,9.7000000000000003E-3]
[90,9.7999999999999997E-3]
[91,9.7999999999999997E-3]
[103,1.1299999999999999E-2]
[105,1.1699999999999999E-2]
[111,1.23E-2]
[118,1.3000000000000001E-2]
[119,1.3100000000000001E-2]
[122,1.3100000000000001E-2]
[136,1.3899999999999999E-2]
[138,1.4199999999999999E-2]
[150,1.46E-2]
[151,1.47E-2]
[152,1.4800000000000001E-2]
[153,1.49E-2]
[161,1.52E-2]
[167,1.54E-2]
[168,1.55E-2]
[174,1.5800000000000002E-2]
[180,1.6E-2]
[182,1.6200000000000003E-2]
[185,1.61E-2]
[195,1.66E-2]
[199,1.67E-2]
[210,1.7500000000000002E-2]
[213,1.7399999999999999E-2]
[214,1.7500000000000002E-2]
[229,1.8000000000000002E-2]
[241,1.84E-2]
[243,1.8600000000000002E-2]
[244,1.8700000000000001E-2]
[257,1.9299999999999998E-2]
[259,1.95E-2]
[264,1.9699999999999999E-2]
[270,1.9900000000000001E-2]
[271,0.02]
[272,2.0099999999999996E-2]
[276,2.0099999999999996E-2]
[290,2.0799999999999999E-2]
[300,2.1400000000000002E-2]
[306,2.1600000000000001E-2]
[320,2.2400000000000003E-2]
[321,2.2499999999999999E-2]
[332,2.2599999999999999E-2]
[333,2.2700000000000001E-2]
[334,2.2799999999999997E-2]
[335,2.29E-2]
[348,2.3300000000000001E-2]
[356,2.3599999999999999E-2]
[360,2.3700000000000002E-2]
[364,2.4E-2]
[367,2.3900000000000001E-2]
[376,2.41E-2]
[381,2.4199999999999999E-2]
[390,2.4500000000000001E-2]
[391,2.4500000000000001E-2]
[409,2.4799999999999999E-2]
[420,2.53E-2]
[439,2.5600000000000001E-2]
[440,2.5699999999999997E-2]
[451,2.58E-2]
[454,2.6000000000000002E-2]
[458,2.6000000000000002E-2]
[472,2.64E-2]
[480,2.6600000000000002E-2]
[501,2.7200000000000002E-2]
[502,2.7200000000000002E-2]
[510,2.7400000000000001E-2]
[518,2.7699999999999999E-2]
[532,2.7900000000000001E-2]
[538,2.7999999999999997E-2]
[542,2.7999999999999997E-2]
[549,2.81E-2]
[563,2.8399999999999998E-2]
[565,2.8500000000000001E-2]
[570,2.8500000000000001E-2]
[594,2.8999999999999998E-2]
[600,2.9100000000000001E-2]
[621,2.9600000000000001E-2]
[627,2.9700000000000001E-2]
[630,2.98E-2]
[641,2.98E-2]
[654,2.9900000000000003E-2]
[661,0.03]
[684,3.0099999999999998E-2]
[685,3.0200000000000001E-2]
[690,3.0200000000000001E-2]
[720,3.0499999999999999E-2]
[731,3.0499999999999999E-2]
[745,3.0600000000000002E-2]
[752,3.0699999999999998E-2]
[775,3.0899999999999997E-2]
[780,3.0899999999999997E-2]
[810,3.1099999999999999E-2]
[822,3.1200000000000002E-2]
[840,3.1400000000000004E-2]
[867,3.15E-2]
[871,3.15E-2]
[900,3.1600000000000003E-2]
[914,3.1699999999999999E-2]
[923,3.1800000000000002E-2]
[930,3.1899999999999998E-2]
[962,3.2000000000000001E-2]
[990,3.2199999999999999E-2]
[1007,3.2300000000000002E-2]
[1020,3.2300000000000002E-2]
[1050,3.2400000000000005E-2]
[1053,3.2400000000000005E-2]
[1081,3.2400000000000005E-2]
[1096,3.2400000000000005E-2]
[1110,3.2400000000000005E-2]
[1127,3.2400000000000005E-2]
[1140,3.2400000000000005E-2]
[1172,3.2400000000000005E-2]
[1187,3.2400000000000005E-2]
[1200,3.2400000000000005E-2]
[1232,3.2500000000000001E-2]
[1279,3.2500000000000001E-2]
[1326,3.27E-2]
[1372,3.2799999999999996E-2]
[1419,3.2799999999999996E-2]
[1440,3.2899999999999999E-2]
[1461,3.2899999999999999E-2]
[1505,3.2899999999999999E-2]
[1552,3.2899999999999999E-2]
[1599,3.2799999999999996E-2]
[1644,3.27E-2]
[1690,3.2599999999999997E-2]
[1739,3.2599999999999997E-2]
[1781,3.2599999999999997E-2]
[1802,3.2599999999999997E-2]
[1826,3.2599999999999997E-2]
[1872,3.2599999999999997E-2]
[1917,3.27E-2]
[1963,3.2799999999999996E-2]
[2055,3.2799999999999996E-2]
[2103,3.2899999999999999E-2]
[2146,3.3000000000000002E-2]
[2161,3.2899999999999999E-2]
[2236,3.2899999999999999E-2]
[2285,3.3000000000000002E-2]
[2328,3.3000000000000002E-2]
[2421,3.3099999999999997E-2]
[2468,3.3099999999999997E-2]
[2512,3.32E-2]
[2520,3.32E-2]
[2601,3.3399999999999999E-2]
[2649,3.3599999999999998E-2]
[2679,3.3700000000000001E-2]
[2693,3.3700000000000001E-2]
[2786,3.39E-2]
[2833,3.4000000000000002E-2]
[2877,3.4000000000000002E-2]
[2880,3.4000000000000002E-2]
[2922,3.4000000000000002E-2]
[2966,3.4000000000000002E-2]
[3013,3.4000000000000002E-2]
[3058,3.4000000000000002E-2]
[3153,3.4000000000000002E-2]
[3198,3.4000000000000002E-2]
[3240,3.4099999999999998E-2]
[3244,3.4099999999999998E-2]
[3331,3.4099999999999998E-2]
[3423,3.4300000000000004E-2]
[3517,3.44E-2]
[3563,3.4500000000000003E-2]
[3603,3.4599999999999999E-2]
[3608,3.4599999999999999E-2]
[3699,3.4799999999999998E-2]
[3790,3.5099999999999999E-2]
[3882,3.5299999999999998E-2]
[3930,3.5400000000000001E-2]
[3960,3.5499999999999997E-2]
[3973,3.56E-2]
[4063,3.5799999999999998E-2]
[4154,3.6200000000000003E-2]
[4247,3.6400000000000002E-2]
[4294,3.6600000000000001E-2]
[4322,3.6699999999999997E-2]
[4338,3.6799999999999999E-2]
[4427,3.7100000000000001E-2]
[4519,3.7499999999999999E-2]
[4612,3.78E-2]
[4659,3.7999999999999999E-2]
[4680,3.8100000000000002E-2]
[4703,3.8199999999999998E-2]
[4792,3.8599999999999995E-2]
[4884,3.9E-2]
[4977,3.9300000000000002E-2]
[5024,3.95E-2]
[5040,3.9599999999999996E-2]
[5068,3.9699999999999999E-2]
[5158,0.04]
[5250,4.0399999999999998E-2]
[5344,4.07E-2]
[5390,4.0899999999999999E-2]
[5400,4.0899999999999999E-2]
[5437,4.1100000000000005E-2]
[5523,4.1399999999999999E-2]
[5582,4.1599999999999998E-2]
[5617,4.1700000000000001E-2]
[5708,4.2000000000000003E-2]
[5799,4.24E-2]
[5890,4.2699999999999995E-2]
[5981,4.2999999999999997E-2]
[6073,4.3299999999999998E-2]
[6164,4.3700000000000003E-2]
[6254,4.4000000000000004E-2]
[6345,4.4299999999999999E-2]
[6438,4.4699999999999997E-2]
[6529,4.4999999999999998E-2]
[6619,4.53E-2]
[6711,4.5700000000000005E-2]
[6804,4.5999999999999999E-2]
[6895,4.6300000000000001E-2]
[6984,4.6600000000000003E-2]
[7076,4.7E-2]
[7171,4.7300000000000002E-2]
[7200,4.7400000000000005E-2]
[7264,4.7599999999999996E-2]
[7349,4.7899999999999998E-2]
[7441,4.8300000000000003E-2]
[7535,4.87E-2]
[7626,4.9000000000000002E-2]
[7714,4.9299999999999997E-2]
[7808,4.9699999999999994E-2]
[7899,0.05]
[7990,5.0300000000000004E-2]
[8081,5.0599999999999999E-2]
[8172,5.0999999999999997E-2]
[8265,5.1299999999999998E-2]
[8356,5.1699999999999996E-2]
[8445,5.2000000000000005E-2]
[8537,5.2300000000000006E-2]
[8721,5.2999999999999999E-2]
[8902,5.3699999999999998E-2]
[9000,5.4100000000000002E-2]
[9086,5.4400000000000004E-2]
[9267,5.5099999999999996E-2]
[9455,5.5800000000000002E-2]
[9635,5.6500000000000002E-2]
[9817,5.7300000000000004E-2]
[9999,5.7999999999999996E-2]
[10182,5.8799999999999998E-2]
[10363,5.9500000000000004E-2]
[10800,6.13E-2]
[12099,6.7000000000000004E-2]
[14017,7.6399999999999996E-2]

{"sheet":"Pré B3","index":7,"n_rows":270,"n_cols":3,"rows_kept":270,"cut":false,"hidden":false,"merged":[]}
["Hoje","2022-04-01"]
[]
["Dias Corridos","Dias Úteis","Taxa Pré"]
[3,{"$f":"NETWORKDAYS($B$1,$B$1+A4,'Tabela de Feriados'!$A$2:$A$937)-1","v":1},0.11650000000000001]
[7,{"$f":"NETWORKDAYS($B$1,$B$1+A5,'Tabela de Feriados'!$A$2:$A$937)-1","v":5},0.11650000000000001]
[12,{"$f":"NETWORKDAYS($B$1,$B$1+A6,'Tabela de Feriados'!$A$2:$A$937)-1","v":8},0.11650000000000001]
[13,{"$f":"NETWORKDAYS($B$1,$B$1+A7,'Tabela de Feriados'!$A$2:$A$937)-1","v":9},0.11650000000000001]
[17,{"$f":"NETWORKDAYS($B$1,$B$1+A8,'Tabela de Feriados'!$A$2:$A$937)-1","v":10},0.11650000000000001]
[21,{"$f":"NETWORKDAYS($B$1,$B$1+A9,'Tabela de Feriados'!$A$2:$A$937)-1","v":13},0.11650000000000001]
[27,{"$f":"NETWORKDAYS($B$1,$B$1+A10,'Tabela de Feriados'!$A$2:$A$937)-1","v":17},0.11650000000000001]
[28,{"$f":"NETWORKDAYS($B$1,$B$1+A11,'Tabela de Feriados'!$A$2:$A$937)-1","v":18},0.11650000000000001]
[31,{"$f":"NETWORKDAYS($B$1,$B$1+A12,'Tabela de Feriados'!$A$2:$A$937)-1","v":19},0.11650000000000001]
[33,{"$f":"NETWORKDAYS($B$1,$B$1+A13,'Tabela de Feriados'!$A$2:$A$937)-1","v":21},0.1173]
[45,{"$f":"NETWORKDAYS($B$1,$B$1+A14,'Tabela de Feriados'!$A$2:$A$937)-1","v":29},0.1193]
[49,{"$f":"NETWORKDAYS($B$1,$B$1+A15,'Tabela de Feriados'!$A$2:$A$937)-1","v":33},0.12]
[52,{"$f":"NETWORKDAYS($B$1,$B$1+A16,'Tabela de Feriados'!$A$2:$A$937)-1","v":34},0.1201]
[59,{"$f":"NETWORKDAYS($B$1,$B$1+A17,'Tabela de Feriados'!$A$2:$A$937)-1","v":39},0.1207]
[60,{"$f":"NETWORKDAYS($B$1,$B$1+A18,'Tabela de Feriados'!$A$2:$A$937)-1","v":40},0.1208]
[61,{"$f":"NETWORKDAYS($B$1,$B$1+A19,'Tabela de Feriados'!$A$2:$A$937)-1","v":41},0.12089999999999999]
[70,{"$f":"NETWORKDAYS($B$1,$B$1+A20,'Tabela de Feriados'!$A$2:$A$937)-1","v":48},0.12179999999999999]
[75,{"$f":"NETWORKDAYS($B$1,$B$1+A21,'Tabela de Feriados'!$A$2:$A$937)-1","v":51},0.12210000000000001]
[77,{"$f":"NETWORKDAYS($B$1,$B$1+A22,'Tabela de Feriados'!$A$2:$A$937)-1","v":52},0.1222]
[89,{"$f":"NETWORKDAYS($B$1,$B$1+A23,'Tabela de Feriados'!$A$2:$A$937)-1","v":60},0.1229]
[90,{"$f":"NETWORKDAYS($B$1,$B$1+A24,'Tabela de Feriados'!$A$2:$A$937)-1","v":61},0.12300000000000001]
[91,{"$f":"NETWORKDAYS($B$1,$B$1+A25,'Tabela de Feriados'!$A$2:$A$937)-1","v":62},0.12300000000000001]
[103,{"$f":"NETWORKDAYS($B$1,$B$1+A26,'Tabela de Feriados'!$A$2:$A$937)-1","v":70},0.12369999999999999]
[105,{"$f":"NETWORKDAYS($B$1,$B$1+A27,'Tabela de Feriados'!$A$2:$A$937)-1","v":72},0.12380000000000001]
[111,{"$f":"NETWORKDAYS($B$1,$B$1+A28,'Tabela de Feriados'!$A$2:$A$937)-1","v":76},0.1241]
[118,{"$f":"NETWORKDAYS($B$1,$B$1+A29,'Tabela de Feriados'!$A$2:$A$937)-1","v":81},0.1244]
[119,{"$f":"NETWORKDAYS($B$1,$B$1+A30,'Tabela de Feriados'!$A$2:$A$937)-1","v":82},0.1244]
[122,{"$f":"NETWORKDAYS($B$1,$B$1+A31,'Tabela de Feriados'!$A$2:$A$937)-1","v":83},0.1245]
[136,{"$f":"NETWORKDAYS($B$1,$B$1+A32,'Tabela de Feriados'!$A$2:$A$937)-1","v":93},0.12480000000000001]
[138,{"$f":"NETWORKDAYS($B$1,$B$1+A33,'Tabela de Feriados'!$A$2:$A$937)-1","v":95},0.1249]
[150,{"$f":"NETWORKDAYS($B$1,$B$1+A34,'Tabela de Feriados'!$A$2:$A$937)-1","v":103},0.12509999999999999]
[151,{"$f":"NETWORKDAYS($B$1,$B$1+A35,'Tabela de Feriados'!$A$2:$A$937)-1","v":104},0.12520000000000001]
[152,{"$f":"NETWORKDAYS($B$1,$B$1+A36,'Tabela de Feriados'!$A$2:$A$937)-1","v":105},0.12520000000000001]
[153,{"$f":"NETWORKDAYS($B$1,$B$1+A37,'Tabela de Feriados'!$A$2:$A$937)-1","v":106},0.12520000000000001]
[161,{"$f":"NETWORKDAYS($B$1,$B$1+A38,'Tabela de Feriados'!$A$2:$A$937)-1","v":111},0.12529999999999999]
[167,{"$f":"NETWORKDAYS($B$1,$B$1+A39,'Tabela de Feriados'!$A$2:$A$937)-1","v":115},0.12539999999999998]
[168,{"$f":"NETWORKDAYS($B$1,$B$1+A40,'Tabela de Feriados'!$A$2:$A$937)-1","v":116},0.12539999999999998]
[174,{"$f":"NETWORKDAYS($B$1,$B$1+A41,'Tabela de Feriados'!$A$2:$A$937)-1","v":120},0.1255]
[180,{"$f":"NETWORKDAYS($B$1,$B$1+A42,'Tabela de Feriados'!$A$2:$A$937)-1","v":124},0.12560000000000002]
[182,{"$f":"NETWORKDAYS($B$1,$B$1+A43,'Tabela de Feriados'!$A$2:$A$937)-1","v":126},0.12560000000000002]
[185,{"$f":"NETWORKDAYS($B$1,$B$1+A44,'Tabela de Feriados'!$A$2:$A$937)-1","v":127},0.12570000000000001]
[195,{"$f":"NETWORKDAYS($B$1,$B$1+A45,'Tabela de Feriados'!$A$2:$A$937)-1","v":134},0.1258]
[199,{"$f":"NETWORKDAYS($B$1,$B$1+A46,'Tabela de Feriados'!$A$2:$A$937)-1","v":136},0.1258]
[210,{"$f":"NETWORKDAYS($B$1,$B$1+A47,'Tabela de Feriados'!$A$2:$A$937)-1","v":145},0.12590000000000001]
[213,{"$f":"NETWORKDAYS($B$1,$B$1+A48,'Tabela de Feriados'!$A$2:$A$937)-1","v":146},0.12590000000000001]
[214,{"$f":"NETWORKDAYS($B$1,$B$1+A49,'Tabela de Feriados'!$A$2:$A$937)-1","v":147},0.126]
[229,{"$f":"NETWORKDAYS($B$1,$B$1+A50,'Tabela de Feriados'!$A$2:$A$937)-1","v":156},0.12609999999999999]
[241,{"$f":"NETWORKDAYS($B$1,$B$1+A51,'Tabela de Feriados'!$A$2:$A$937)-1","v":164},0.12619999999999998]
[243,{"$f":"NETWORKDAYS($B$1,$B$1+A52,'Tabela de Feriados'!$A$2:$A$937)-1","v":166},0.1263]
[244,{"$f":"NETWORKDAYS($B$1,$B$1+A53,'Tabela de Feriados'!$A$2:$A$937)-1","v":167},0.1263]
[257,{"$f":"NETWORKDAYS($B$1,$B$1+A54,'Tabela de Feriados'!$A$2:$A$937)-1","v":176},0.12619999999999998]
[259,{"$f":"NETWORKDAYS($B$1,$B$1+A55,'Tabela de Feriados'!$A$2:$A$937)-1","v":178},0.12619999999999998]
[264,{"$f":"NETWORKDAYS($B$1,$B$1+A56,'Tabela de Feriados'!$A$2:$A$937)-1","v":181},0.12619999999999998]
[270,{"$f":"NETWORKDAYS($B$1,$B$1+A57,'Tabela de Feriados'!$A$2:$A$937)-1","v":185},0.12619999999999998]
[271,{"$f":"NETWORKDAYS($B$1,$B$1+A58,'Tabela de Feriados'!$A$2:$A$937)-1","v":186},0.12619999999999998]
[272,{"$f":"NETWORKDAYS($B$1,$B$1+A59,'Tabela de Feriados'!$A$2:$A$937)-1","v":187},0.12619999999999998]
[276,{"$f":"NETWORKDAYS($B$1,$B$1+A60,'Tabela de Feriados'!$A$2:$A$937)-1","v":189},0.12619999999999998]
[290,{"$f":"NETWORKDAYS($B$1,$B$1+A61,'Tabela de Feriados'!$A$2:$A$937)-1","v":199},0.1263]
[300,{"$f":"NETWORKDAYS($B$1,$B$1+A62,'Tabela de Feriados'!$A$2:$A$937)-1","v":207},0.12640000000000001]
[306,{"$f":"NETWORKDAYS($B$1,$B$1+A63,'Tabela de Feriados'!$A$2:$A$937)-1","v":211},0.12640000000000001]
[320,{"$f":"NETWORKDAYS($B$1,$B$1+A64,'Tabela de Feriados'!$A$2:$A$937)-1","v":221},0.12640000000000001]
[321,{"$f":"NETWORKDAYS($B$1,$B$1+A65,'Tabela de Feriados'!$A$2:$A$937)-1","v":222},0.12640000000000001]
[332,{"$f":"NETWORKDAYS($B$1,$B$1+A66,'Tabela de Feriados'!$A$2:$A$937)-1","v":227},0.12640000000000001]
[333,{"$f":"NETWORKDAYS($B$1,$B$1+A67,'Tabela de Feriados'!$A$2:$A$937)-1","v":228},0.12640000000000001]
[334,{"$f":"NETWORKDAYS($B$1,$B$1+A68,'Tabela de Feriados'!$A$2:$A$937)-1","v":229},0.12640000000000001]
[335,{"$f":"NETWORKDAYS($B$1,$B$1+A69,'Tabela de Feriados'!$A$2:$A$937)-1","v":230},0.1263]
[348,{"$f":"NETWORKDAYS($B$1,$B$1+A70,'Tabela de Feriados'!$A$2:$A$937)-1","v":239},0.12609999999999999]
[356,{"$f":"NETWORKDAYS($B$1,$B$1+A71,'Tabela de Feriados'!$A$2:$A$937)-1","v":245},0.126]
[360,{"$f":"NETWORKDAYS($B$1,$B$1+A72,'Tabela de Feriados'!$A$2:$A$937)-1","v":247},0.126]
[364,{"$f":"NETWORKDAYS($B$1,$B$1+A73,'Tabela de Feriados'!$A$2:$A$937)-1","v":251},0.12590000000000001]
[367,{"$f":"NETWORKDAYS($B$1,$B$1+A74,'Tabela de Feriados'!$A$2:$A$937)-1","v":252},0.12590000000000001]
[376,{"$f":"NETWORKDAYS($B$1,$B$1+A75,'Tabela de Feriados'!$A$2:$A$937)-1","v":258},0.12570000000000001]
[381,{"$f":"NETWORKDAYS($B$1,$B$1+A76,'Tabela de Feriados'!$A$2:$A$937)-1","v":261},0.12560000000000002]
[390,{"$f":"NETWORKDAYS($B$1,$B$1+A77,'Tabela de Feriados'!$A$2:$A$937)-1","v":267},0.12539999999999998]
[391,{"$f":"NETWORKDAYS($B$1,$B$1+A78,'Tabela de Feriados'!$A$2:$A$937)-1","v":268},0.12539999999999998]
[409,{"$f":"NETWORKDAYS($B$1,$B$1+A79,'Tabela de Feriados'!$A$2:$A$937)-1","v":279},0.12509999999999999]
[420,{"$f":"NETWORKDAYS($B$1,$B$1+A80,'Tabela de Feriados'!$A$2:$A$937)-1","v":288},0.1249]
[439,{"$f":"NETWORKDAYS($B$1,$B$1+A81,'Tabela de Feriados'!$A$2:$A$937)-1","v":300},0.1246]
[440,{"$f":"NETWORKDAYS($B$1,$B$1+A82,'Tabela de Feriados'!$A$2:$A$937)-1","v":301},0.1246]
[451,{"$f":"NETWORKDAYS($B$1,$B$1+A83,'Tabela de Feriados'!$A$2:$A$937)-1","v":308},0.1244]
[454,{"$f":"NETWORKDAYS($B$1,$B$1+A84,'Tabela de Feriados'!$A$2:$A$937)-1","v":311},0.12429999999999999]
[458,{"$f":"NETWORKDAYS($B$1,$B$1+A85,'Tabela de Feriados'!$A$2:$A$937)-1","v":313},0.12429999999999999]
[472,{"$f":"NETWORKDAYS($B$1,$B$1+A86,'Tabela de Feriados'!$A$2:$A$937)-1","v":323},0.12380000000000001]
[480,{"$f":"NETWORKDAYS($B$1,$B$1+A87,'Tabela de Feriados'!$A$2:$A$937)-1","v":329},0.1235]
[501,{"$f":"NETWORKDAYS($B$1,$B$1+A88,'Tabela de Feriados'!$A$2:$A$937)-1","v":344},0.12279999999999999]
[502,{"$f":"NETWORKDAYS($B$1,$B$1+A89,'Tabela de Feriados'!$A$2:$A$937)-1","v":345},0.12269999999999999]
[510,{"$f":"NETWORKDAYS($B$1,$B$1+A90,'Tabela de Feriados'!$A$2:$A$937)-1","v":351},0.1225]
[518,{"$f":"NETWORKDAYS($B$1,$B$1+A91,'Tabela de Feriados'!$A$2:$A$937)-1","v":357},0.1222]
[532,{"$f":"NETWORKDAYS($B$1,$B$1+A92,'Tabela de Feriados'!$A$2:$A$937)-1","v":366},0.12189999999999999]
[538,{"$f":"NETWORKDAYS($B$1,$B$1+A93,'Tabela de Feriados'!$A$2:$A$937)-1","v":370},0.1217]
[542,{"$f":"NETWORKDAYS($B$1,$B$1+A94,'Tabela de Feriados'!$A$2:$A$937)-1","v":372},0.1216]
[549,{"$f":"NETWORKDAYS($B$1,$B$1+A95,'Tabela de Feriados'!$A$2:$A$937)-1","v":377},0.1215]
[563,{"$f":"NETWORKDAYS($B$1,$B$1+A96,'Tabela de Feriados'!$A$2:$A$937)-1","v":386},0.12089999999999999]
[565,{"$f":"NETWORKDAYS($B$1,$B$1+A97,'Tabela de Feriados'!$A$2:$A$937)-1","v":388},0.1208]
[570,{"$f":"NETWORKDAYS($B$1,$B$1+A98,'Tabela de Feriados'!$A$2:$A$937)-1","v":391},0.1207]
[594,{"$f":"NETWORKDAYS($B$1,$B$1+A99,'Tabela de Feriados'!$A$2:$A$937)-1","v":407},0.1198]
[600,{"$f":"NETWORKDAYS($B$1,$B$1+A100,'Tabela de Feriados'!$A$2:$A$937)-1","v":411},0.11960000000000001]
[621,{"$f":"NETWORKDAYS($B$1,$B$1+A101,'Tabela de Feriados'!$A$2:$A$937)-1","v":426},0.11890000000000001]
[627,{"$f":"NETWORKDAYS($B$1,$B$1+A102,'Tabela de Feriados'!$A$2:$A$937)-1","v":430},0.1188]
[630,{"$f":"NETWORKDAYS($B$1,$B$1+A103,'Tabela de Feriados'!$A$2:$A$937)-1","v":433},0.1186]
[641,{"$f":"NETWORKDAYS($B$1,$B$1+A104,'Tabela de Feriados'!$A$2:$A$937)-1","v":438},0.11840000000000001]
[654,{"$f":"NETWORKDAYS($B$1,$B$1+A105,'Tabela de Feriados'!$A$2:$A$937)-1","v":447},0.11810000000000001]
[661,{"$f":"NETWORKDAYS($B$1,$B$1+A106,'Tabela de Feriados'!$A$2:$A$937)-1","v":452},0.11789999999999999]
[684,{"$f":"NETWORKDAYS($B$1,$B$1+A107,'Tabela de Feriados'!$A$2:$A$937)-1","v":467},0.1174]
[685,{"$f":"NETWORKDAYS($B$1,$B$1+A108,'Tabela de Feriados'!$A$2:$A$937)-1","v":468},0.1174]
[690,{"$f":"NETWORKDAYS($B$1,$B$1+A109,'Tabela de Feriados'!$A$2:$A$937)-1","v":471},0.1173]
[720,{"$f":"NETWORKDAYS($B$1,$B$1+A110,'Tabela de Feriados'!$A$2:$A$937)-1","v":493},0.1167]
[731,{"$f":"NETWORKDAYS($B$1,$B$1+A111,'Tabela de Feriados'!$A$2:$A$937)-1","v":499},0.11650000000000001]
[745,{"$f":"NETWORKDAYS($B$1,$B$1+A112,'Tabela de Feriados'!$A$2:$A$937)-1","v":509},0.11609999999999999]
[752,{"$f":"NETWORKDAYS($B$1,$B$1+A113,'Tabela de Feriados'!$A$2:$A$937)-1","v":514},0.1159]
[775,{"$f":"NETWORKDAYS($B$1,$B$1+A114,'Tabela de Feriados'!$A$2:$A$937)-1","v":530},0.11539999999999999]
[780,{"$f":"NETWORKDAYS($B$1,$B$1+A115,'Tabela de Feriados'!$A$2:$A$937)-1","v":533},0.1153]
[810,{"$f":"NETWORKDAYS($B$1,$B$1+A116,'Tabela de Feriados'!$A$2:$A$937)-1","v":554},0.11460000000000001]
[822,{"$f":"NETWORKDAYS($B$1,$B$1+A117,'Tabela de Feriados'!$A$2:$A$937)-1","v":562},0.1143]
[840,{"$f":"NETWORKDAYS($B$1,$B$1+A118,'Tabela de Feriados'!$A$2:$A$937)-1","v":576},0.114]
[867,{"$f":"NETWORKDAYS($B$1,$B$1+A119,'Tabela de Feriados'!$A$2:$A$937)-1","v":595},0.11359999999999999]
[871,{"$f":"NETWORKDAYS($B$1,$B$1+A120,'Tabela de Feriados'!$A$2:$A$937)-1","v":597},0.11349999999999999]
[900,{"$f":"NETWORKDAYS($B$1,$B$1+A121,'Tabela de Feriados'!$A$2:$A$937)-1","v":618},0.11310000000000001]
[914,{"$f":"NETWORKDAYS($B$1,$B$1+A122,'Tabela de Feriados'!$A$2:$A$937)-1","v":628},0.11289999999999999]
[923,{"$f":"NETWORKDAYS($B$1,$B$1+A123,'Tabela de Feriados'!$A$2:$A$937)-1","v":635},0.11269999999999999]
[930,{"$f":"NETWORKDAYS($B$1,$B$1+A124,'Tabela de Feriados'!$A$2:$A$937)-1","v":640},0.11259999999999999]
[962,{"$f":"NETWORKDAYS($B$1,$B$1+A125,'Tabela de Feriados'!$A$2:$A$937)-1","v":661},0.11220000000000001]
[990,{"$f":"NETWORKDAYS($B$1,$B$1+A126,'Tabela de Feriados'!$A$2:$A$937)-1","v":681},0.1118]
[1007,{"$f":"NETWORKDAYS($B$1,$B$1+A127,'Tabela de Feriados'!$A$2:$A$937)-1","v":692},0.1116]
[1020,{"$f":"NETWORKDAYS($B$1,$B$1+A128,'Tabela de Feriados'!$A$2:$A$937)-1","v":701},0.1115]
[1050,{"$f":"NETWORKDAYS($B$1,$B$1+A129,'Tabela de Feriados'!$A$2:$A$937)-1","v":723},0.11130000000000001]
[1053,{"$f":"NETWORKDAYS($B$1,$B$1+A130,'Tabela de Feriados'!$A$2:$A$937)-1","v":724},0.11130000000000001]
[1081,{"$f":"NETWORKDAYS($B$1,$B$1+A131,'Tabela de Feriados'!$A$2:$A$937)-1","v":742},0.11109999999999999]
[1096,{"$f":"NETWORKDAYS($B$1,$B$1+A132,'Tabela de Feriados'!$A$2:$A$937)-1","v":753},0.111]
[1110,{"$f":"NETWORKDAYS($B$1,$B$1+A133,'Tabela de Feriados'!$A$2:$A$937)-1","v":763},0.111]
[1127,{"$f":"NETWORKDAYS($B$1,$B$1+A134,'Tabela de Feriados'!$A$2:$A$937)-1","v":773},0.1109]
[1140,{"$f":"NETWORKDAYS($B$1,$B$1+A135,'Tabela de Feriados'!$A$2:$A$937)-1","v":782},0.1109]
[1172,{"$f":"NETWORKDAYS($B$1,$B$1+A136,'Tabela de Feriados'!$A$2:$A$937)-1","v":804},0.1108]
[1187,{"$f":"NETWORKDAYS($B$1,$B$1+A137,'Tabela de Feriados'!$A$2:$A$937)-1","v":814},0.11070000000000001]
[1200,{"$f":"NETWORKDAYS($B$1,$B$1+A138,'Tabela de Feriados'!$A$2:$A$937)-1","v":823},0.1106]
[1232,{"$f":"NETWORKDAYS($B$1,$B$1+A139,'Tabela de Feriados'!$A$2:$A$937)-1","v":847},0.1104]
[1279,{"$f":"NETWORKDAYS($B$1,$B$1+A140,'Tabela de Feriados'!$A$2:$A$937)-1","v":880},0.11019999999999999]
[1326,{"$f":"NETWORKDAYS($B$1,$B$1+A141,'Tabela de Feriados'!$A$2:$A$937)-1","v":913},0.11]
[1372,{"$f":"NETWORKDAYS($B$1,$B$1+A142,'Tabela de Feriados'!$A$2:$A$937)-1","v":945},0.1099]
[1419,{"$f":"NETWORKDAYS($B$1,$B$1+A143,'Tabela de Feriados'!$A$2:$A$937)-1","v":976},0.10980000000000001]
[1440,{"$f":"NETWORKDAYS($B$1,$B$1+A144,'Tabela de Feriados'!$A$2:$A$937)-1","v":991},0.10980000000000001]
[1461,{"$f":"NETWORKDAYS($B$1,$B$1+A145,'Tabela de Feriados'!$A$2:$A$937)-1","v":1006},0.10970000000000001]
[1505,{"$f":"NETWORKDAYS($B$1,$B$1+A146,'Tabela de Feriados'!$A$2:$A$937)-1","v":1035},0.10970000000000001]
[1552,{"$f":"NETWORKDAYS($B$1,$B$1+A147,'Tabela de Feriados'!$A$2:$A$937)-1","v":1067},0.10970000000000001]
[1599,{"$f":"NETWORKDAYS($B$1,$B$1+A148,'Tabela de Feriados'!$A$2:$A$937)-1","v":1100},0.11]
[1644,{"$f":"NETWORKDAYS($B$1,$B$1+A149,'Tabela de Feriados'!$A$2:$A$937)-1","v":1132},0.1103]
[1690,{"$f":"NETWORKDAYS($B$1,$B$1+A150,'Tabela de Feriados'!$A$2:$A$937)-1","v":1162},0.1101]
[1739,{"$f":"NETWORKDAYS($B$1,$B$1+A151,'Tabela de Feriados'!$A$2:$A$937)-1","v":1195},0.10980000000000001]
[1781,{"$f":"NETWORKDAYS($B$1,$B$1+A152,'Tabela de Feriados'!$A$2:$A$937)-1","v":1223},0.10980000000000001]
[1802,{"$f":"NETWORKDAYS($B$1,$B$1+A153,'Tabela de Feriados'!$A$2:$A$937)-1","v":1238},0.10980000000000001]
[1826,{"$f":"NETWORKDAYS($B$1,$B$1+A154,'Tabela de Feriados'!$A$2:$A$937)-1","v":1255},0.1099]
[1872,{"$f":"NETWORKDAYS($B$1,$B$1+A155,'Tabela de Feriados'!$A$2:$A$937)-1","v":1286},0.1099]
[1917,{"$f":"NETWORKDAYS($B$1,$B$1+A156,'Tabela de Feriados'!$A$2:$A$937)-1","v":1318},0.1099]
[1963,{"$f":"NETWORKDAYS($B$1,$B$1+A157,'Tabela de Feriados'!$A$2:$A$937)-1","v":1350},0.1099]
[2055,{"$f":"NETWORKDAYS($B$1,$B$1+A158,'Tabela de Feriados'!$A$2:$A$937)-1","v":1412},0.11]
[2103,{"$f":"NETWORKDAYS($B$1,$B$1+A159,'Tabela de Feriados'!$A$2:$A$937)-1","v":1446},0.11]
[2146,{"$f":"NETWORKDAYS($B$1,$B$1+A160,'Tabela de Feriados'!$A$2:$A$937)-1","v":1477},0.11019999999999999]
[2161,{"$f":"NETWORKDAYS($B$1,$B$1+A161,'Tabela de Feriados'!$A$2:$A$937)-1","v":1486},0.11019999999999999]
[2236,{"$f":"NETWORKDAYS($B$1,$B$1+A162,'Tabela de Feriados'!$A$2:$A$937)-1","v":1536},0.1104]
[2285,{"$f":"NETWORKDAYS($B$1,$B$1+A163,'Tabela de Feriados'!$A$2:$A$937)-1","v":1570},0.1106]
[2328,{"$f":"NETWORKDAYS($B$1,$B$1+A164,'Tabela de Feriados'!$A$2:$A$937)-1","v":1601},0.11070000000000001]
[2421,{"$f":"NETWORKDAYS($B$1,$B$1+A165,'Tabela de Feriados'!$A$2:$A$937)-1","v":1664},0.111]
[2468,{"$f":"NETWORKDAYS($B$1,$B$1+A166,'Tabela de Feriados'!$A$2:$A$937)-1","v":1695},0.11109999999999999]
[2512,{"$f":"NETWORKDAYS($B$1,$B$1+A167,'Tabela de Feriados'!$A$2:$A$937)-1","v":1725},0.11119999999999999]
[2520,{"$f":"NETWORKDAYS($B$1,$B$1+A168,'Tabela de Feriados'!$A$2:$A$937)-1","v":1731},0.11119999999999999]
[2601,{"$f":"NETWORKDAYS($B$1,$B$1+A169,'Tabela de Feriados'!$A$2:$A$937)-1","v":1786},0.11130000000000001]
[2649,{"$f":"NETWORKDAYS($B$1,$B$1+A170,'Tabela de Feriados'!$A$2:$A$937)-1","v":1819},0.1114]
[2679,{"$f":"NETWORKDAYS($B$1,$B$1+A171,'Tabela de Feriados'!$A$2:$A$937)-1","v":1841},0.1115]
[2693,{"$f":"NETWORKDAYS($B$1,$B$1+A172,'Tabela de Feriados'!$A$2:$A$937)-1","v":1851},0.1115]
[2786,{"$f":"NETWORKDAYS($B$1,$B$1+A173,'Tabela de Feriados'!$A$2:$A$937)-1","v":1914},0.1116]
[2833,{"$f":"NETWORKDAYS($B$1,$B$1+A174,'Tabela de Feriados'!$A$2:$A$937)-1","v":1945},0.11169999999999999]
[2877,{"$f":"NETWORKDAYS($B$1,$B$1+A175,'Tabela de Feriados'!$A$2:$A$937)-1","v":1977},0.1118]
[2880,{"$f":"NETWORKDAYS($B$1,$B$1+A176,'Tabela de Feriados'!$A$2:$A$937)-1","v":1978},0.1118]
[2922,{"$f":"NETWORKDAYS($B$1,$B$1+A177,'Tabela de Feriados'!$A$2:$A$937)-1","v":2006},0.1119]
[2966,{"$f":"NETWORKDAYS($B$1,$B$1+A178,'Tabela de Feriados'!$A$2:$A$937)-1","v":2036},0.1119]
[3013,{"$f":"NETWORKDAYS($B$1,$B$1+A179,'Tabela de Feriados'!$A$2:$A$937)-1","v":2068},0.11199999999999999]
[3058,{"$f":"NETWORKDAYS($B$1,$B$1+A180,'Tabela de Feriados'!$A$2:$A$937)-1","v":2101},0.11210000000000001]
[3153,{"$f":"NETWORKDAYS($B$1,$B$1+A181,'Tabela de Feriados'!$A$2:$A$937)-1","v":2167},0.11220000000000001]
[3198,{"$f":"NETWORKDAYS($B$1,$B$1+A182,'Tabela de Feriados'!$A$2:$A$937)-1","v":2198},0.11230000000000001]
[3240,{"$f":"NETWORKDAYS($B$1,$B$1+A183,'Tabela de Feriados'!$A$2:$A$937)-1","v":2228},0.11230000000000001]
[3244,{"$f":"NETWORKDAYS($B$1,$B$1+A184,'Tabela de Feriados'!$A$2:$A$937)-1","v":2230},0.11230000000000001]
[3331,{"$f":"NETWORKDAYS($B$1,$B$1+A185,'Tabela de Feriados'!$A$2:$A$937)-1","v":2288},0.1124]
[3423,{"$f":"NETWORKDAYS($B$1,$B$1+A186,'Tabela de Feriados'!$A$2:$A$937)-1","v":2353},0.1125]
[3517,{"$f":"NETWORKDAYS($B$1,$B$1+A187,'Tabela de Feriados'!$A$2:$A$937)-1","v":2419},0.1125]
[3563,{"$f":"NETWORKDAYS($B$1,$B$1+A188,'Tabela de Feriados'!$A$2:$A$937)-1","v":2451},0.11259999999999999]
[3603,{"$f":"NETWORKDAYS($B$1,$B$1+A189,'Tabela de Feriados'!$A$2:$A$937)-1","v":2477},0.11259999999999999]
[3608,{"$f":"NETWORKDAYS($B$1,$B$1+A190,'Tabela de Feriados'!$A$2:$A$937)-1","v":2480},0.11259999999999999]
[3699,{"$f":"NETWORKDAYS($B$1,$B$1+A191,'Tabela de Feriados'!$A$2:$A$937)-1","v":2543},0.11269999999999999]
[3790,{"$f":"NETWORKDAYS($B$1,$B$1+A192,'Tabela de Feriados'!$A$2:$A$937)-1","v":2607},0.11269999999999999]
[3882,{"$f":"NETWORKDAYS($B$1,$B$1+A193,'Tabela de Feriados'!$A$2:$A$937)-1","v":2669},0.1128]
[3930,{"$f":"NETWORKDAYS($B$1,$B$1+A194,'Tabela de Feriados'!$A$2:$A$937)-1","v":2703},0.1128]
[3960,{"$f":"NETWORKDAYS($B$1,$B$1+A195,'Tabela de Feriados'!$A$2:$A$937)-1","v":2725},0.1128]
[3973,{"$f":"NETWORKDAYS($B$1,$B$1+A196,'Tabela de Feriados'!$A$2:$A$937)-1","v":2734},0.11289999999999999]
[4063,{"$f":"NETWORKDAYS($B$1,$B$1+A197,'Tabela de Feriados'!$A$2:$A$937)-1","v":2794},0.11289999999999999]
[4154,{"$f":"NETWORKDAYS($B$1,$B$1+A198,'Tabela de Feriados'!$A$2:$A$937)-1","v":2858},0.113]
[4247,{"$f":"NETWORKDAYS($B$1,$B$1+A199,'Tabela de Feriados'!$A$2:$A$937)-1","v":2921},0.11310000000000001]
[4294,{"$f":"NETWORKDAYS($B$1,$B$1+A200,'Tabela de Feriados'!$A$2:$A$937)-1","v":2954},0.11320000000000001]
[4322,{"$f":"NETWORKDAYS($B$1,$B$1+A201,'Tabela de Feriados'!$A$2:$A$937)-1","v":2974},0.11320000000000001]
[4338,{"$f":"NETWORKDAYS($B$1,$B$1+A202,'Tabela de Feriados'!$A$2:$A$937)-1","v":2986},0.11320000000000001]
[4427,{"$f":"NETWORKDAYS($B$1,$B$1+A203,'Tabela de Feriados'!$A$2:$A$937)-1","v":3044},0.1133]
[4519,{"$f":"NETWORKDAYS($B$1,$B$1+A204,'Tabela de Feriados'!$A$2:$A$937)-1","v":3109},0.1134]
[4612,{"$f":"NETWORKDAYS($B$1,$B$1+A205,'Tabela de Feriados'!$A$2:$A$937)-1","v":3172},0.1134]
[4659,{"$f":"NETWORKDAYS($B$1,$B$1+A206,'Tabela de Feriados'!$A$2:$A$937)-1","v":3203},0.11349999999999999]
[4680,{"$f":"NETWORKDAYS($B$1,$B$1+A207,'Tabela de Feriados'!$A$2:$A$937)-1","v":3218},0.11349999999999999]
[4703,{"$f":"NETWORKDAYS($B$1,$B$1+A208,'Tabela de Feriados'!$A$2:$A$937)-1","v":3233},0.11349999999999999]
[4792,{"$f":"NETWORKDAYS($B$1,$B$1+A209,'Tabela de Feriados'!$A$2:$A$937)-1","v":3294},0.11349999999999999]
[4884,{"$f":"NETWORKDAYS($B$1,$B$1+A210,'Tabela de Feriados'!$A$2:$A$937)-1","v":3359},0.11349999999999999]
[4977,{"$f":"NETWORKDAYS($B$1,$B$1+A211,'Tabela de Feriados'!$A$2:$A$937)-1","v":3422},0.11349999999999999]
[5024,{"$f":"NETWORKDAYS($B$1,$B$1+A212,'Tabela de Feriados'!$A$2:$A$937)-1","v":3453},0.11349999999999999]
[5040,{"$f":"NETWORKDAYS($B$1,$B$1+A213,'Tabela de Feriados'!$A$2:$A$937)-1","v":3465},0.11349999999999999]
[5068,{"$f":"NETWORKDAYS($B$1,$B$1+A214,'Tabela de Feriados'!$A$2:$A$937)-1","v":3485},0.11349999999999999]
[5158,{"$f":"NETWORKDAYS($B$1,$B$1+A215,'Tabela de Feriados'!$A$2:$A$937)-1","v":3544},0.11349999999999999]
[5250,{"$f":"NETWORKDAYS($B$1,$B$1+A216,'Tabela de Feriados'!$A$2:$A$937)-1","v":3609},0.11349999999999999]
[5344,{"$f":"NETWORKDAYS($B$1,$B$1+A217,'Tabela de Feriados'!$A$2:$A$937)-1","v":3675},0.11349999999999999]
[5390,{"$f":"NETWORKDAYS($B$1,$B$1+A218,'Tabela de Feriados'!$A$2:$A$937)-1","v":3707},0.11349999999999999]
[5400,{"$f":"NETWORKDAYS($B$1,$B$1+A219,'Tabela de Feriados'!$A$2:$A$937)-1","v":3713},0.11349999999999999]
[5437,{"$f":"NETWORKDAYS($B$1,$B$1+A220,'Tabela de Feriados'!$A$2:$A$937)-1","v":3738},0.11349999999999999]
[5523,{"$f":"NETWORKDAYS($B$1,$B$1+A221,'Tabela de Feriados'!$A$2:$A$937)-1","v":3797},0.11349999999999999]
[5582,{"$f":"NETWORKDAYS($B$1,$B$1+A222,'Tabela de Feriados'!$A$2:$A$937)-1","v":3837},0.11349999999999999]
[5617,{"$f":"NETWORKDAYS($B$1,$B$1+A223,'Tabela de Feriados'!$A$2:$A$937)-1","v":3862},0.11349999999999999]
[5708,{"$f":"NETWORKDAYS($B$1,$B$1+A224,'Tabela de Feriados'!$A$2:$A$937)-1","v":3924},0.11349999999999999]
[5799,{"$f":"NETWORKDAYS($B$1,$B$1+A225,'Tabela de Feriados'!$A$2:$A$937)-1","v":3987},0.11349999999999999]
[5890,{"$f":"NETWORKDAYS($B$1,$B$1+A226,'Tabela de Feriados'!$A$2:$A$937)-1","v":4048},0.11349999999999999]
[5981,{"$f":"NETWORKDAYS($B$1,$B$1+A227,'Tabela de Feriados'!$A$2:$A$937)-1","v":4112},0.11349999999999999]
[6073,{"$f":"NETWORKDAYS($B$1,$B$1+A228,'Tabela de Feriados'!$A$2:$A$937)-1","v":4174},0.11349999999999999]
[6164,{"$f":"NETWORKDAYS($B$1,$B$1+A229,'Tabela de Feriados'!$A$2:$A$937)-1","v":4239},0.11349999999999999]
[6254,{"$f":"NETWORKDAYS($B$1,$B$1+A230,'Tabela de Feriados'!$A$2:$A$937)-1","v":4299},0.11349999999999999]
[6345,{"$f":"NETWORKDAYS($B$1,$B$1+A231,'Tabela de Feriados'!$A$2:$A$937)-1","v":4363},0.11349999999999999]
[6438,{"$f":"NETWORKDAYS($B$1,$B$1+A232,'Tabela de Feriados'!$A$2:$A$937)-1","v":4426},0.11349999999999999]
[6529,{"$f":"NETWORKDAYS($B$1,$B$1+A233,'Tabela de Feriados'!$A$2:$A$937)-1","v":4489},0.11349999999999999]
[6619,{"$f":"NETWORKDAYS($B$1,$B$1+A234,'Tabela de Feriados'!$A$2:$A$937)-1","v":4551},0.11349999999999999]
[6711,{"$f":"NETWORKDAYS($B$1,$B$1+A235,'Tabela de Feriados'!$A$2:$A$937)-1","v":4616},0.11349999999999999]
[6804,{"$f":"NETWORKDAYS($B$1,$B$1+A236,'Tabela de Feriados'!$A$2:$A$937)-1","v":4679},0.11349999999999999]
[6895,{"$f":"NETWORKDAYS($B$1,$B$1+A237,'Tabela de Feriados'!$A$2:$A$937)-1","v":4742},0.11349999999999999]
[6984,{"$f":"NETWORKDAYS($B$1,$B$1+A238,'Tabela de Feriados'!$A$2:$A$937)-1","v":4801},0.11349999999999999]
[7076,{"$f":"NETWORKDAYS($B$1,$B$1+A239,'Tabela de Feriados'!$A$2:$A$937)-1","v":4866},0.11349999999999999]
[7171,{"$f":"NETWORKDAYS($B$1,$B$1+A240,'Tabela de Feriados'!$A$2:$A$937)-1","v":4932},0.11349999999999999]
[7200,{"$f":"NETWORKDAYS($B$1,$B$1+A241,'Tabela de Feriados'!$A$2:$A$937)-1","v":4953},0.11349999999999999]
[7264,{"$f":"NETWORKDAYS($B$1,$B$1+A242,'Tabela de Feriados'!$A$2:$A$937)-1","v":4995},0.11349999999999999]
[7349,{"$f":"NETWORKDAYS($B$1,$B$1+A243,'Tabela de Feriados'!$A$2:$A$937)-1","v":5053},0.11349999999999999]
[7441,{"$f":"NETWORKDAYS($B$1,$B$1+A244,'Tabela de Feriados'!$A$2:$A$937)-1","v":5118},0.11349999999999999]
[7535,{"$f":"NETWORKDAYS($B$1,$B$1+A245,'Tabela de Feriados'!$A$2:$A$937)-1","v":5184},0.11349999999999999]
[7626,{"$f":"NETWORKDAYS($B$1,$B$1+A246,'Tabela de Feriados'!$A$2:$A$937)-1","v":5245},0.11349999999999999]
[7714,{"$f":"NETWORKDAYS($B$1,$B$1+A247,'Tabela de Feriados'!$A$2:$A$937)-1","v":5306},0.11349999999999999]
[7808,{"$f":"NETWORKDAYS($B$1,$B$1+A248,'Tabela de Feriados'!$A$2:$A$937)-1","v":5371},0.11349999999999999]
[7899,{"$f":"NETWORKDAYS($B$1,$B$1+A249,'Tabela de Feriados'!$A$2:$A$937)-1","v":5433},0.11349999999999999]
[7990,{"$f":"NETWORKDAYS($B$1,$B$1+A250,'Tabela de Feriados'!$A$2:$A$937)-1","v":5496},0.11349999999999999]
[8081,{"$f":"NETWORKDAYS($B$1,$B$1+A251,'Tabela de Feriados'!$A$2:$A$937)-1","v":5557},0.11349999999999999]
[8172,{"$f":"NETWORKDAYS($B$1,$B$1+A252,'Tabela de Feriados'!$A$2:$A$937)-1","v":5621},0.11349999999999999]
[8265,{"$f":"NETWORKDAYS($B$1,$B$1+A253,'Tabela de Feriados'!$A$2:$A$937)-1","v":5684},0.11349999999999999]
[8356,{"$f":"NETWORKDAYS($B$1,$B$1+A254,'Tabela de Feriados'!$A$2:$A$937)-1","v":5749},0.11349999999999999]
[8445,{"$f":"NETWORKDAYS($B$1,$B$1+A255,'Tabela de Feriados'!$A$2:$A$937)-1","v":5807},0.11349999999999999]
[8537,{"$f":"NETWORKDAYS($B$1,$B$1+A256,'Tabela de Feriados'!$A$2:$A$937)-1","v":5872},0.11349999999999999]
[8721,{"$f":"NETWORKDAYS($B$1,$B$1+A257,'Tabela de Feriados'!$A$2:$A$937)-1","v":5996},0.11349999999999999]
[8902,{"$f":"NETWORKDAYS($B$1,$B$1+A258,'Tabela de Feriados'!$A$2:$A$937)-1","v":6122},0.11349999999999999]
[9000,{"$f":"NETWORKDAYS($B$1,$B$1+A259,'Tabela de Feriados'!$A$2:$A$937)-1","v":6188},0.11349999999999999]
[9086,{"$f":"NETWORKDAYS($B$1,$B$1+A260,'Tabela de Feriados'!$A$2:$A$937)-1","v":6248},0.11349999999999999]
[9267,{"$f":"NETWORKDAYS($B$1,$B$1+A261,'Tabela de Feriados'!$A$2:$A$937)-1","v":6372},0.11349999999999999]
[9455,{"$f":"NETWORKDAYS($B$1,$B$1+A262,'Tabela de Feriados'!$A$2:$A$937)-1","v":6501},0.11349999999999999]
[9635,{"$f":"NETWORKDAYS($B$1,$B$1+A263,'Tabela de Feriados'!$A$2:$A$937)-1","v":6625},0.11349999999999999]
[9817,{"$f":"NETWORKDAYS($B$1,$B$1+A264,'Tabela de Feriados'!$A$2:$A$937)-1","v":6750},0.11349999999999999]
[9999,{"$f":"NETWORKDAYS($B$1,$B$1+A265,'Tabela de Feriados'!$A$2:$A$937)-1","v":6875},0.11349999999999999]
[10182,{"$f":"NETWORKDAYS($B$1,$B$1+A266,'Tabela de Feriados'!$A$2:$A$937)-1","v":7002},0.11349999999999999]
[10363,{"$f":"NETWORKDAYS($B$1,$B$1+A267,'Tabela de Feriados'!$A$2:$A$937)-1","v":7126},0.11349999999999999]
[10800,{"$f":"NETWORKDAYS($B$1,$B$1+A268,'Tabela de Feriados'!$A$2:$A$937)-1","v":7427},0.11349999999999999]
[12099,{"$f":"NETWORKDAYS($B$1,$B$1+A269,'Tabela de Feriados'!$A$2:$A$937)-1","v":8319},0.11349999999999999]
[14017,{"$f":"NETWORKDAYS($B$1,$B$1+A270,'Tabela de Feriados'!$A$2:$A$937)-1","v":9640},0.11349999999999999]